BEGIN:VCALENDAR
VERSION:2.0
PRODID:-//Livry - Commune de Livry - ECPv6.15.20//NONSGML v1.0//EN
CALSCALE:GREGORIAN
METHOD:PUBLISH
X-WR-CALNAME:Livry - Commune de Livry
X-ORIGINAL-URL:https://livry.fr
X-WR-CALDESC:Évènements pour Livry - Commune de Livry
REFRESH-INTERVAL;VALUE=DURATION:PT1H
X-Robots-Tag:noindex
X-PUBLISHED-TTL:PT1H
BEGIN:VTIMEZONE
TZID:Europe/Paris
BEGIN:DAYLIGHT
TZOFFSETFROM:+0100
TZOFFSETTO:+0200
TZNAME:CEST
DTSTART:20230326T010000
END:DAYLIGHT
BEGIN:STANDARD
TZOFFSETFROM:+0200
TZOFFSETTO:+0100
TZNAME:CET
DTSTART:20231029T010000
END:STANDARD
BEGIN:DAYLIGHT
TZOFFSETFROM:+0100
TZOFFSETTO:+0200
TZNAME:CEST
DTSTART:20240331T010000
END:DAYLIGHT
BEGIN:STANDARD
TZOFFSETFROM:+0200
TZOFFSETTO:+0100
TZNAME:CET
DTSTART:20241027T010000
END:STANDARD
BEGIN:DAYLIGHT
TZOFFSETFROM:+0100
TZOFFSETTO:+0200
TZNAME:CEST
DTSTART:20250330T010000
END:DAYLIGHT
BEGIN:STANDARD
TZOFFSETFROM:+0200
TZOFFSETTO:+0100
TZNAME:CET
DTSTART:20251026T010000
END:STANDARD
END:VTIMEZONE
BEGIN:VEVENT
DTSTART;TZID=Europe/Paris:20240615T100000
DTEND;TZID=Europe/Paris:20240615T170000
DTSTAMP:20260419T153723
CREATED:20240612T152951Z
LAST-MODIFIED:20240612T152951Z
UID:6070-1718445600-1718470800@livry.fr
SUMMARY:Ouverture de l'épicerie automatique
DESCRIPTION:L’épicerie de Livry ouvre ses portes le samedi 15 juin 2024 à partir de 10h. \nDe nombreux produits seront à disposition dans les casiers secs et réfrigérés : \n– charcuterie \n– fromage  \n– fruits et légumes \n– miel \n– œufs et volailles \n– jus de fruits \n– champignons déhydratés \n– confitures \nEt bien d’autres encore ! \n  \nOn vous attend au 4 bis route du Veurdre – 58240 LIVRY \nPour tout renseignement : \nMAIRIE de LIVRY \n2 chemin Georges Bosio \n58240 LIVRY \n03.86.37.43.15.
URL:https://livry.fr/event/ouverture-de-lepicerie-automatique/
LOCATION:Epicerie de Livry\, 4 bis route du Veurdre\, 58240\, 58240
ATTACH;FMTTYPE=image/jpeg:https://livry.fr/wp-content/uploads/2024/06/images-1.jpg
END:VEVENT
END:VCALENDAR