BEGIN:VCALENDAR
VERSION:2.0
PRODID:-//Livry - Commune de Livry - ECPv6.15.20//NONSGML v1.0//EN
CALSCALE:GREGORIAN
METHOD:PUBLISH
X-ORIGINAL-URL:https://livry.fr
X-WR-CALDESC:Évènements pour Livry - Commune de Livry
REFRESH-INTERVAL;VALUE=DURATION:PT1H
X-Robots-Tag:noindex
X-PUBLISHED-TTL:PT1H
BEGIN:VTIMEZONE
TZID:Europe/Paris
BEGIN:DAYLIGHT
TZOFFSETFROM:+0100
TZOFFSETTO:+0200
TZNAME:CEST
DTSTART:20220327T010000
END:DAYLIGHT
BEGIN:STANDARD
TZOFFSETFROM:+0200
TZOFFSETTO:+0100
TZNAME:CET
DTSTART:20221030T010000
END:STANDARD
BEGIN:DAYLIGHT
TZOFFSETFROM:+0100
TZOFFSETTO:+0200
TZNAME:CEST
DTSTART:20230326T010000
END:DAYLIGHT
BEGIN:STANDARD
TZOFFSETFROM:+0200
TZOFFSETTO:+0100
TZNAME:CET
DTSTART:20231029T010000
END:STANDARD
BEGIN:DAYLIGHT
TZOFFSETFROM:+0100
TZOFFSETTO:+0200
TZNAME:CEST
DTSTART:20240331T010000
END:DAYLIGHT
BEGIN:STANDARD
TZOFFSETFROM:+0200
TZOFFSETTO:+0100
TZNAME:CET
DTSTART:20241027T010000
END:STANDARD
END:VTIMEZONE
BEGIN:VEVENT
DTSTART;TZID=Europe/Paris:20230623T190000
DTEND;TZID=Europe/Paris:20230624T020000
DTSTAMP:20260420T124844
CREATED:20230620T094040Z
LAST-MODIFIED:20230620T094040Z
UID:4278-1687546800-1687572000@livry.fr
SUMMARY:FETE DE LA MUSIQUE
DESCRIPTION:  \n  \n\n Fête de la Musique à Livry – Vendredi 23 juin au “Chat Vert”  vous êtes tous convié à la fêtes .\n(pas d’obligation de se restaurer sur place)\n\n\n\nNous vous invitons à célébrer la Fête de la Musique dans une ambiance festive et conviviale au “Chat Vert” de LIVRY ! Réservez dès maintenant votre soirée du vendredi 23 juin pour une soirée inoubliable.\n\n\nNous avons le plaisir d’accueillir le groupe pop rock “Les Confits Nés“.\nPour les gourmets\, notre restaurant vous propose des pizzas et burgers à emporter et a déguster dans le parc\, en profitant de l’été et de l’ambiance musicales.\nC’est l’occasion parfaite de passer un moment agréable entre amis ou en famille.\nInvitez vos amis et partagez cet événement pour que personne ne manque cette soirée mémorable.\n\n\n\n Date : vendredi 23 juin\n Heure : À partir de 19h00\n Lieu : “Le Chat Vert “\, Livry\n réservation : 03 86 36 27 51\n\n\nNous sommes impatients de vous retrouver !\n\n\nJe T’en Brasse Parents d’élèves RPID Saint Pierre – Livry\n\n 
URL:https://livry.fr/event/fete-de-la-musique/
LOCATION:Le Chat Vert\, 4 route du Veurdre\, LIVRY\, 58240
ATTACH;FMTTYPE=image/jpeg:https://livry.fr/wp-content/uploads/2023/06/354041093_646363410854273_8193950455563535881_n.jpg
END:VEVENT
END:VCALENDAR