BEGIN:VCALENDAR
VERSION:2.0
PRODID:-//Livry - Commune de Livry - ECPv6.15.20//NONSGML v1.0//EN
CALSCALE:GREGORIAN
METHOD:PUBLISH
X-ORIGINAL-URL:https://livry.fr
X-WR-CALDESC:Évènements pour Livry - Commune de Livry
REFRESH-INTERVAL;VALUE=DURATION:PT1H
X-Robots-Tag:noindex
X-PUBLISHED-TTL:PT1H
BEGIN:VTIMEZONE
TZID:Europe/Paris
BEGIN:DAYLIGHT
TZOFFSETFROM:+0100
TZOFFSETTO:+0200
TZNAME:CEST
DTSTART:20190331T010000
END:DAYLIGHT
BEGIN:STANDARD
TZOFFSETFROM:+0200
TZOFFSETTO:+0100
TZNAME:CET
DTSTART:20191027T010000
END:STANDARD
BEGIN:DAYLIGHT
TZOFFSETFROM:+0100
TZOFFSETTO:+0200
TZNAME:CEST
DTSTART:20200329T010000
END:DAYLIGHT
BEGIN:STANDARD
TZOFFSETFROM:+0200
TZOFFSETTO:+0100
TZNAME:CET
DTSTART:20201025T010000
END:STANDARD
BEGIN:DAYLIGHT
TZOFFSETFROM:+0100
TZOFFSETTO:+0200
TZNAME:CEST
DTSTART:20210328T010000
END:DAYLIGHT
BEGIN:STANDARD
TZOFFSETFROM:+0200
TZOFFSETTO:+0100
TZNAME:CET
DTSTART:20211031T010000
END:STANDARD
END:VTIMEZONE
BEGIN:VEVENT
DTSTART;TZID=Europe/Paris:20201013T163000
DTEND;TZID=Europe/Paris:20201013T180000
DTSTAMP:20260422T154416
CREATED:20201007T091637Z
LAST-MODIFIED:20201007T091637Z
UID:2926-1602606600-1602612000@livry.fr
SUMMARY:Cinéma itinérant : DREAMS
DESCRIPTION:  \n\n\nAvec :  Audrey D’Hulstère\, Lola Dubini\, Steve Driesen \nGenres : Aventure – 1h18 \nDès 6 ans\n\n  \n\nSYNOPSIS\n\n\n\n\nEmma est une jeune fille qui partage sa chambre avec Coco son cochon d’Inde. Une nuit\, dans son sommeil\, elle bascule dans un monde merveilleux. Elle découvre alors qu’elle a le pouvoir d’entrer dans le monde des rêves et de changer le futur. Sa vie devient extraordinaire ! Jusqu’au jour où revenir dans le monde réel s’avère plus compliqué que prévu…\n\n\n\n\nSaint-Pierre-Le-Moûtier\nMardi 13 octobre\n16h30
URL:https://livry.fr/event/cinema-itinerant-dreams/
LOCATION:St-Pierre-Le-moûtier\, 58240
END:VEVENT
BEGIN:VEVENT
DTSTART;TZID=Europe/Paris:20201013T200000
DTEND;TZID=Europe/Paris:20201013T214500
DTSTAMP:20260422T154416
CREATED:20201007T092033Z
LAST-MODIFIED:20201007T092033Z
UID:2929-1602619200-1602625500@livry.fr
SUMMARY:Cinéma itinérant : LES PARFUMS
DESCRIPTION:  \n\n\nAvec : Emmanuelle Devos\, Grégory Montel\, Gustave Kervern \nGenres : Comédie – 1h44 \n\nSYNOPSIS\n\n\n\n\nAnne Walberg est une célébrité dans le monde du parfum. Elle crée des fragrances et vend son incroyable talent à des sociétés en tout genre. Elle vit en diva\, égoïste\, au tempérament bien trempé. Guillaume est son nouveau chauffeur et le seul qui n’a pas peur de lui tenir tête. Sans doute la raison pour laquelle elle ne le renvoie pas. \n\n\n  \nSaint-Pierre-Le-Moûtier\nMardi 13 octobre\n20h
URL:https://livry.fr/event/cinema-itinerant-les-parfums/
LOCATION:St-Pierre-Le-moûtier\, 58240
END:VEVENT
BEGIN:VEVENT
DTSTART;TZID=Europe/Paris:20201026T153000
DTEND;TZID=Europe/Paris:20201026T170000
DTSTAMP:20260422T154416
CREATED:20201007T092807Z
LAST-MODIFIED:20201007T092903Z
UID:2932-1603726200-1603731600@livry.fr
SUMMARY:Cinéma itinérant : SPYCIES
DESCRIPTION:  \nAvec :  Davy Mourier\, Monsieur Poulpe\, Paul Born \nGenres : Aventure – 1h39 \n  \n\n\nSYNOPSIS\n\n\n\n\nUn duo fantaisiste d’agents secrets\, composé de l’exigeant mais rebelle Vladimir et d’Hector le geek vaurien\, tient le sort du monde entre ses pattes : suite au vol de la radiésite\, matériau classé top secret sur une plateforme offshore\, le tandem devra sauver la planète d’une menace climatique au cours de son enquête\, menée tambour battant ! \n\n\n\nSaint-Pierre-Le-Moûtier\nLundi 26 octobre\n15h30
URL:https://livry.fr/event/cinema-itinerant-spycies/
LOCATION:St-Pierre-Le-moûtier\, 58240
END:VEVENT
BEGIN:VEVENT
DTSTART;TZID=Europe/Paris:20201026T190000
DTEND;TZID=Europe/Paris:20201026T210000
DTSTAMP:20260422T154416
CREATED:20201007T094012Z
LAST-MODIFIED:20201019T092811Z
UID:2935-1603738800-1603746000@livry.fr
SUMMARY:Cinéma itinérant : DIVORCE CLUB
DESCRIPTION:  \nAvec : Arnaud Ducret\, François-Xavier Demaison\, Audrey Fleurot \nGenres : Comédie – 1h48 \n  \n\n\nSYNOPSIS\n\n\n\n\nAprès 5 ans de mariage\, Ben est toujours aussi éperdument amoureux. Jusqu’au jour où il découvre en public que sa femme le trompe : humilié et plaqué dans la foulée ! Abattu et lâché par ses proches\, Ben peine à remonter la pente jusqu’à ce qu’il croise le chemin de Patrick\, un ancien ami lui aussi divorcé qui lui propose d’emménager chez lui. Patrick\, au contraire de Ben\, entend bien profiter de son célibat retrouvé et de tous les plaisirs auxquels il avait renoncé durant son mariage. Bientôt rejoints par d’autres divorcés\, les fêtards quarantenaires ébauchent les premières règles du  » Divorce Club « …\n\n\n\n\n\nSaint-Pierre-Le-Moûtier\nLundi 26 octobre\n19h
URL:https://livry.fr/event/cinema-itinerant-divorce-club/
LOCATION:St-Pierre-Le-moûtier\, 58240
END:VEVENT
END:VCALENDAR