BEGIN:VCALENDAR
VERSION:2.0
PRODID:-//Livry - Commune de Livry - ECPv6.15.20//NONSGML v1.0//EN
CALSCALE:GREGORIAN
METHOD:PUBLISH
X-WR-CALNAME:Livry - Commune de Livry
X-ORIGINAL-URL:https://livry.fr
X-WR-CALDESC:Évènements pour Livry - Commune de Livry
REFRESH-INTERVAL;VALUE=DURATION:PT1H
X-Robots-Tag:noindex
X-PUBLISHED-TTL:PT1H
BEGIN:VTIMEZONE
TZID:Europe/Paris
BEGIN:DAYLIGHT
TZOFFSETFROM:+0100
TZOFFSETTO:+0200
TZNAME:CEST
DTSTART:20190331T010000
END:DAYLIGHT
BEGIN:STANDARD
TZOFFSETFROM:+0200
TZOFFSETTO:+0100
TZNAME:CET
DTSTART:20191027T010000
END:STANDARD
BEGIN:DAYLIGHT
TZOFFSETFROM:+0100
TZOFFSETTO:+0200
TZNAME:CEST
DTSTART:20200329T010000
END:DAYLIGHT
BEGIN:STANDARD
TZOFFSETFROM:+0200
TZOFFSETTO:+0100
TZNAME:CET
DTSTART:20201025T010000
END:STANDARD
BEGIN:DAYLIGHT
TZOFFSETFROM:+0100
TZOFFSETTO:+0200
TZNAME:CEST
DTSTART:20210328T010000
END:DAYLIGHT
BEGIN:STANDARD
TZOFFSETFROM:+0200
TZOFFSETTO:+0100
TZNAME:CET
DTSTART:20211031T010000
END:STANDARD
END:VTIMEZONE
BEGIN:VEVENT
DTSTART;TZID=Europe/Paris:20200904T200000
DTEND;TZID=Europe/Paris:20200904T200000
DTSTAMP:20260422T173047
CREATED:20200904T125526Z
LAST-MODIFIED:20200904T125526Z
UID:2856-1599249600-1599249600@livry.fr
SUMMARY:Apéro-concert avec ANNWYN
DESCRIPTION:On vous attend nombreux !
URL:https://livry.fr/event/apero-concert-avec-annwyn/
LOCATION:La Cabane\, Le bourg\, LIVRY\, 58240\, France
END:VEVENT
BEGIN:VEVENT
DTSTART;TZID=Europe/Paris:20200919T150000
DTEND;TZID=Europe/Paris:20200920T180000
DTSTAMP:20260422T173047
CREATED:20200915T084431Z
LAST-MODIFIED:20200915T084431Z
UID:2884-1600527600-1600624800@livry.fr
SUMMARY:Journées du Patrimoine
DESCRIPTION:
URL:https://livry.fr/event/journees-du-patrimoine/
LOCATION:Riousse – LIVRY\, Riousse\, LIVRY\, Bourgogne\, 58240\, France
ORGANIZER;CN="Mus%C3%A9e de la Vigne":MAILTO:museedelavigne58240@gmail.com
END:VEVENT
BEGIN:VEVENT
DTSTART;VALUE=DATE:20200927
DTEND;VALUE=DATE:20200928
DTSTAMP:20260422T173047
CREATED:20200915T083923Z
LAST-MODIFIED:20200915T083923Z
UID:2876-1601164800-1601251199@livry.fr
SUMMARY:2ème Marché de l'Art
DESCRIPTION:
URL:https://livry.fr/event/2eme-marche-de-lart/
LOCATION:Riousse – LIVRY\, Riousse\, LIVRY\, Bourgogne\, 58240\, France
END:VEVENT
END:VCALENDAR