BEGIN:VCALENDAR
VERSION:2.0
PRODID:-//Livry - Commune de Livry - ECPv6.15.20//NONSGML v1.0//EN
CALSCALE:GREGORIAN
METHOD:PUBLISH
X-ORIGINAL-URL:https://livry.fr
X-WR-CALDESC:Évènements pour Livry - Commune de Livry
REFRESH-INTERVAL;VALUE=DURATION:PT1H
X-Robots-Tag:noindex
X-PUBLISHED-TTL:PT1H
BEGIN:VTIMEZONE
TZID:Europe/Paris
BEGIN:DAYLIGHT
TZOFFSETFROM:+0100
TZOFFSETTO:+0200
TZNAME:CEST
DTSTART:20190331T010000
END:DAYLIGHT
BEGIN:STANDARD
TZOFFSETFROM:+0200
TZOFFSETTO:+0100
TZNAME:CET
DTSTART:20191027T010000
END:STANDARD
BEGIN:DAYLIGHT
TZOFFSETFROM:+0100
TZOFFSETTO:+0200
TZNAME:CEST
DTSTART:20200329T010000
END:DAYLIGHT
BEGIN:STANDARD
TZOFFSETFROM:+0200
TZOFFSETTO:+0100
TZNAME:CET
DTSTART:20201025T010000
END:STANDARD
BEGIN:DAYLIGHT
TZOFFSETFROM:+0100
TZOFFSETTO:+0200
TZNAME:CEST
DTSTART:20210328T010000
END:DAYLIGHT
BEGIN:STANDARD
TZOFFSETFROM:+0200
TZOFFSETTO:+0100
TZNAME:CET
DTSTART:20211031T010000
END:STANDARD
END:VTIMEZONE
BEGIN:VEVENT
DTSTART;TZID=Europe/Paris:20200621T111500
DTEND;TZID=Europe/Paris:20200621T123000
DTSTAMP:20260422T220858
CREATED:20200527T112836Z
LAST-MODIFIED:20200527T112836Z
UID:2742-1592738100-1592742600@livry.fr
SUMMARY:Messe de la SAINT JEAN
DESCRIPTION:MESSE DE LA ST JEAN \n 
URL:https://livry.fr/event/messe-de-la-saint-jean/
LOCATION:Eglise de LIVRY\, Le bourg\, LIVRY\, 58240
ATTACH;FMTTYPE=image/jpeg:https://livry.fr/wp-content/uploads/2020/05/église.jpg
END:VEVENT
END:VCALENDAR