BEGIN:VCALENDAR
VERSION:2.0
PRODID:-//Livry - Commune de Livry - ECPv6.15.20//NONSGML v1.0//EN
CALSCALE:GREGORIAN
METHOD:PUBLISH
X-ORIGINAL-URL:https://livry.fr
X-WR-CALDESC:Évènements pour Livry - Commune de Livry
REFRESH-INTERVAL;VALUE=DURATION:PT1H
X-Robots-Tag:noindex
X-PUBLISHED-TTL:PT1H
BEGIN:VTIMEZONE
TZID:Europe/Paris
BEGIN:DAYLIGHT
TZOFFSETFROM:+0100
TZOFFSETTO:+0200
TZNAME:CEST
DTSTART:20190331T010000
END:DAYLIGHT
BEGIN:STANDARD
TZOFFSETFROM:+0200
TZOFFSETTO:+0100
TZNAME:CET
DTSTART:20191027T010000
END:STANDARD
BEGIN:DAYLIGHT
TZOFFSETFROM:+0100
TZOFFSETTO:+0200
TZNAME:CEST
DTSTART:20200329T010000
END:DAYLIGHT
BEGIN:STANDARD
TZOFFSETFROM:+0200
TZOFFSETTO:+0100
TZNAME:CET
DTSTART:20201025T010000
END:STANDARD
BEGIN:DAYLIGHT
TZOFFSETFROM:+0100
TZOFFSETTO:+0200
TZNAME:CEST
DTSTART:20210328T010000
END:DAYLIGHT
BEGIN:STANDARD
TZOFFSETFROM:+0200
TZOFFSETTO:+0100
TZNAME:CET
DTSTART:20211031T010000
END:STANDARD
END:VTIMEZONE
BEGIN:VEVENT
DTSTART;TZID=Europe/Paris:20200114T163000
DTEND;TZID=Europe/Paris:20200114T183000
DTSTAMP:20260423T061022
CREATED:20191224T092946Z
LAST-MODIFIED:20191224T092946Z
UID:2411-1579019400-1579026600@livry.fr
SUMMARY:Cinéma itinérant : La Reine Des Neiges 2
DESCRIPTION:  \nAvec Jennifer Lee\, Chris Buck\nGenre Animation 1h43\nNationalité Américain\n\n\n\nSYNOPSIS\n\n\n\n\nPourquoi Elsa est-elle née avec des pouvoirs magiques ? La jeune fille rêve de l’apprendre\, mais la réponse met son royaume en danger. Avec l’aide d’Anna\, Kristoff\, Olaf et Sven\, Elsa entreprend un voyage aussi périlleux qu’extraordinaire. Dans La Reine des neiges\, Elsa craignait que ses pouvoirs ne menacent le monde. Dans La Reine des neiges 2\, elle espère qu’ils seront assez puissants pour le sauver… \n  \n\n\nSaint Pierre le Moutier : \nMardi 14 janvier à 16h30
URL:https://livry.fr/event/cinema-itinerant-la-reine-des-neiges-2/
LOCATION:St-Pierre-Le-moûtier\, 58240
END:VEVENT
BEGIN:VEVENT
DTSTART;TZID=Europe/Paris:20200114T200000
DTEND;TZID=Europe/Paris:20200114T213000
DTSTAMP:20260423T061022
CREATED:20191224T093721Z
LAST-MODIFIED:20191224T093721Z
UID:2415-1579032000-1579037400@livry.fr
SUMMARY:Cinéma itinérant : Joyeuse Retraite !
DESCRIPTION:  \nAvec :  Thierry Lhermitte\, Michèle Laroque\, Nicole Ferroni \nGenres : Comédie – 1h37 \n  \n\n\nSYNOPSIS\n\n\n\n\nL’heure de la retraite est enfin arrivée pour Philippe et Marilou ! Ils s’apprêtent à réaliser leur rêve : partir vivre sous le soleil du Portugal. Au revoir le travail\, au revoir la famille\, au revoir les emmerdes ! Ils pensaient enfin être tranquilles… mais leur famille a d’autres projets pour eux ! \n\n\n  \nSaint Pierre le Moutier : \nMardi 14 janvier à 20h
URL:https://livry.fr/event/cinema-itinerant-joyeuse-retraite/
LOCATION:St-Pierre-Le-moûtier\, 58240
END:VEVENT
BEGIN:VEVENT
DTSTART;TZID=Europe/Paris:20200118T103000
DTEND;TZID=Europe/Paris:20200118T120000
DTSTAMP:20260423T061022
CREATED:20191218T124013Z
LAST-MODIFIED:20191218T124013Z
UID:2402-1579343400-1579348800@livry.fr
SUMMARY:Messe de la Saint-Vincent
DESCRIPTION:
URL:https://livry.fr/event/messe-de-la-saint-vincent/
LOCATION:LIVRY
END:VEVENT
BEGIN:VEVENT
DTSTART;TZID=Europe/Paris:20200127T163000
DTEND;TZID=Europe/Paris:20200127T180000
DTSTAMP:20260423T061022
CREATED:20191224T101318Z
LAST-MODIFIED:20191224T101429Z
UID:2418-1580142600-1580148000@livry.fr
SUMMARY:Cinéma itinérant : Le Voyage du Prince
DESCRIPTION:  \n \n  \nAvec :  Enrico Di Giovanni\, Thomas Sagols\, Gabriel Le Doze \nGenres : Aventure – 1h16 \n  \n\n\nSYNOPSIS\n\n\n\n\nUn vieux Prince échoue sur un rivage inconnu. Blessé et perdu\, il est retrouvé par le jeune Tom et recueilli par ses parents\, deux chercheurs dissidents qui ont osé croire à l’existence d’autres peuples… Le Prince\, guidé par son ami Tom\, découvre avec enthousiasme et fascination cette société pourtant figée et sclérosée. Pendant ce temps\, le couple de chercheurs rêve de convaincre l’Académie de la véracité de leur thèse auparavant rejetée… \n\n\n  \nSaint Pierre le Moutier : \nLundi 27 janvier à 16h30
URL:https://livry.fr/event/cinema-itinerant-le-voyage-du-prince/
LOCATION:St-Pierre-Le-moûtier\, 58240
END:VEVENT
BEGIN:VEVENT
DTSTART;TZID=Europe/Paris:20200127T200000
DTEND;TZID=Europe/Paris:20200127T220000
DTSTAMP:20260423T061022
CREATED:20191224T103649Z
LAST-MODIFIED:20191224T103649Z
UID:2423-1580155200-1580162400@livry.fr
SUMMARY:Cinéma itinérant : Le meilleur reste à venir
DESCRIPTION:  \n  \nAvec :  Fabrice Luchini\, Patrick Bruel\, Zineb Triki \nGenres : Comédie\, Drame – 1h57 \n  \n\n\nSYNOPSIS\n\n\n\n\nSuite à un énorme malentendu\, deux amis d’enfance\, chacun persuadé que l’autre n’a plus que quelques mois à vivre\, décident de tout plaquer pour rattraper le temps perdu. \n\n\n  \n  \nSaint Pierre le Moutier : \nLundi 27 janvier à 20h
URL:https://livry.fr/event/cinema-itinerant-le-meilleur-reste-a-venir/
LOCATION:St-Pierre-Le-moûtier\, 58240
END:VEVENT
END:VCALENDAR