BEGIN:VCALENDAR
VERSION:2.0
PRODID:-//Livry - Commune de Livry - ECPv6.15.20//NONSGML v1.0//EN
CALSCALE:GREGORIAN
METHOD:PUBLISH
X-ORIGINAL-URL:https://livry.fr
X-WR-CALDESC:Évènements pour Livry - Commune de Livry
REFRESH-INTERVAL;VALUE=DURATION:PT1H
X-Robots-Tag:noindex
X-PUBLISHED-TTL:PT1H
BEGIN:VTIMEZONE
TZID:Europe/Paris
BEGIN:DAYLIGHT
TZOFFSETFROM:+0100
TZOFFSETTO:+0200
TZNAME:CEST
DTSTART:20180325T010000
END:DAYLIGHT
BEGIN:STANDARD
TZOFFSETFROM:+0200
TZOFFSETTO:+0100
TZNAME:CET
DTSTART:20181028T010000
END:STANDARD
BEGIN:DAYLIGHT
TZOFFSETFROM:+0100
TZOFFSETTO:+0200
TZNAME:CEST
DTSTART:20190331T010000
END:DAYLIGHT
BEGIN:STANDARD
TZOFFSETFROM:+0200
TZOFFSETTO:+0100
TZNAME:CET
DTSTART:20191027T010000
END:STANDARD
BEGIN:DAYLIGHT
TZOFFSETFROM:+0100
TZOFFSETTO:+0200
TZNAME:CEST
DTSTART:20200329T010000
END:DAYLIGHT
BEGIN:STANDARD
TZOFFSETFROM:+0200
TZOFFSETTO:+0100
TZNAME:CET
DTSTART:20201025T010000
END:STANDARD
END:VTIMEZONE
BEGIN:VEVENT
DTSTART;TZID=Europe/Paris:20191210T163000
DTEND;TZID=Europe/Paris:20191210T183000
DTSTAMP:20260423T074710
CREATED:20191030T122039Z
LAST-MODIFIED:20191030T122039Z
UID:2321-1575995400-1576002600@livry.fr
SUMMARY:Cinéma itinérant : Donne-moi des ailes
DESCRIPTION:  \nAvec : Jean-Paul Rouve\, Mélanie Doutey\, Louis Vazquez \nGenre : Aventure Français – 1h53\n\n\n\n\n\nSYNOPSIS\n\n\n\n\nChristian\, scientifique visionnaire\, étudie les oies sauvages. Pour son fils\, adolescent obnubilé par les jeux vidéos\, l’idée de passer des vacances avec son père en pleine nature est un cauchemar. Pourtant\, père et fils vont se rapprocher autour d’un projet fou : sauver une espèce en voie de disparition\, grâce à l’ULM de Christian ! Commence alors un incroyable et périlleux voyage… \n\n\n\n  \nSaint Pierre le Moutier :\nMardi 10 décembre à 16h30
URL:https://livry.fr/event/cinema-itinerant-donne-moi-des-ailes/
LOCATION:St-Pierre-Le-moûtier\, 58240
END:VEVENT
BEGIN:VEVENT
DTSTART;TZID=Europe/Paris:20191210T200000
DTEND;TZID=Europe/Paris:20191210T213000
DTSTAMP:20260423T074710
CREATED:20191030T121115Z
LAST-MODIFIED:20191030T121115Z
UID:2314-1576008000-1576013400@livry.fr
SUMMARY:Cinéma itinérant : Le Dindon
DESCRIPTION:De Jalil Lespert\nAvec Dany Boon\, Guillaume Gallienne\, Alice Pol plus\nGenre Comédie (1h25mn)\n\n\n\n\nSYNOPSIS\n\nMonsieur de Pontagnac a eu un coup de foudre pour une jolie jeune femme. Ce qu’il n’avait pas prévu c’est que celle-ci n’est autre que Victoire\, la femme d’un de ses amis\, Vatelin. Et si le notaire le prend plutôt bien\, Victoire\, elle n’est pas si simple à manipuler. Surtout\, la mésaventure a lancé dans leur société un sujet – et un petit jeu étonnant autour de la fidélité des uns et des autres. Alors quand entrent dans l’arène Rediop\, soupirant de Victoire\, et Suzy\, ancienne flamme de Vatelin\, le jeu se corse encore.\n\n\n\n\nSaint Pierre le Moutier :\nMardi 10 décembre à 20h
URL:https://livry.fr/event/cinema-itinerant-le-dindon/
LOCATION:St-Pierre-Le-moûtier\, 58240
END:VEVENT
BEGIN:VEVENT
DTSTART;TZID=Europe/Paris:20191219T163000
DTEND;TZID=Europe/Paris:20191219T180000
DTSTAMP:20260423T074710
CREATED:20191120T122836Z
LAST-MODIFIED:20191120T123006Z
UID:2373-1576773000-1576778400@livry.fr
SUMMARY:Cinéma itinérant : Shaun le mouton
DESCRIPTION:  \n\n\nSYNOPSIS\n\n\n\n\nObjectif Laine !\nShaun Le Mouton revient dans une aventure intergalactique. Un vaisseau spatial s’est écrasé près de la ferme de Shaun. A son bord\, une adorable et malicieuse petite créature\, prénommée LU-LA.\nAvec ses pouvoirs surnaturels\, son goût pour l’aventure\, et ses rots venus d’un autre monde\, elle est immédiatement adoptée par le troupeau. Mais lorsqu’une sombre organisation gouvernementale se lance à sa poursuite\, bien décidée à capturer la petite alien\, la ferme contre-attaque ! Shaun et le troupeau vont tout faire pour aider LU-LA à rentrer chez elle.\nAccrochez vos ceintures et préparez-vous pour une épopée…à se tondre de rire ! \n\n\n  \nSaint Pierre le moutier :\nJeudi 19 décembre 16h30 \n 
URL:https://livry.fr/event/cinema-itinerant-shaun-le-mouton/
LOCATION:St-Pierre-Le-moûtier\, 58240
END:VEVENT
BEGIN:VEVENT
DTSTART;TZID=Europe/Paris:20191221T163000
DTEND;TZID=Europe/Paris:20191221T173000
DTSTAMP:20260423T074710
CREATED:20191030T121643Z
LAST-MODIFIED:20191030T121643Z
UID:2318-1576945800-1576949400@livry.fr
SUMMARY:Cinéma itinérant : La fameuse invasion des ours en Sicile
DESCRIPTION:  \nAvec : Jean-Claude Carrière\, Leïla Bekhti\, Thomas Bidegain \nGenres : Aventure – 1h22 \n  \n\n\nSYNOPSIS\n\n\n\n\nTout commence le jour où Tonio\, le fils du roi des ours\, est enlevé par des chasseurs dans les montagnes de Sicile… Profitant de la rigueur d’un hiver qui menace son peuple de famine\, le roi décide alors d’envahir la plaine où habitent les hommes. Avec l’aide de son armée et d’un magicien\, il réussit à vaincre et finit par retrouver Tonio. Mais il comprend vite que le peuple des ours n’est pas fait pour vivre au pays des hommes… \n\n\n  \nSaint Pierre le Moutier :\nLundi 21 décembre à 16h30
URL:https://livry.fr/event/cinema-itinerant-la-fameuse-invasion-des-ours-en-sicile/
LOCATION:St-Pierre-Le-moûtier\, 58240
END:VEVENT
BEGIN:VEVENT
DTSTART;TZID=Europe/Paris:20191221T200000
DTEND;TZID=Europe/Paris:20191221T220000
DTSTAMP:20260423T074710
CREATED:20191030T114557Z
LAST-MODIFIED:20191030T114557Z
UID:2309-1576958400-1576965600@livry.fr
SUMMARY:Cinéma itinérant : Alice et le Maire
DESCRIPTION:  \nAvec :   Fabrice Luchini\, Anaïs Demoustier\, Nora Hamzawi \nGenres : Comédie dramatique – 1h43 \n  \n\n\nSYNOPSIS\n\n\n\n\nLe maire de Lyon\, Paul Théraneau\, va mal. Il n’a plus une seule idée. Après trente ans de vie politique\, il se sent complètement vide. Pour remédier à ce problème\, on décide de lui adjoindre une jeune et brillante philosophe\, Alice Heimann. Un dialogue se noue\, qui rapproche Alice et le maire et ébranle leurs certitudes. \n\n  \nSaint Pierre le Moutier :\nLundi 21 décembre à 20h
URL:https://livry.fr/event/cinema-itinerant-alice-et-le-maire/
LOCATION:St-Pierre-Le-moûtier\, 58240
END:VEVENT
END:VCALENDAR