BEGIN:VCALENDAR
VERSION:2.0
PRODID:-//Livry - Commune de Livry - ECPv6.15.20//NONSGML v1.0//EN
CALSCALE:GREGORIAN
METHOD:PUBLISH
X-ORIGINAL-URL:https://livry.fr
X-WR-CALDESC:Évènements pour Livry - Commune de Livry
REFRESH-INTERVAL;VALUE=DURATION:PT1H
X-Robots-Tag:noindex
X-PUBLISHED-TTL:PT1H
BEGIN:VTIMEZONE
TZID:Europe/Paris
BEGIN:DAYLIGHT
TZOFFSETFROM:+0100
TZOFFSETTO:+0200
TZNAME:CEST
DTSTART:20180325T010000
END:DAYLIGHT
BEGIN:STANDARD
TZOFFSETFROM:+0200
TZOFFSETTO:+0100
TZNAME:CET
DTSTART:20181028T010000
END:STANDARD
BEGIN:DAYLIGHT
TZOFFSETFROM:+0100
TZOFFSETTO:+0200
TZNAME:CEST
DTSTART:20190331T010000
END:DAYLIGHT
BEGIN:STANDARD
TZOFFSETFROM:+0200
TZOFFSETTO:+0100
TZNAME:CET
DTSTART:20191027T010000
END:STANDARD
BEGIN:DAYLIGHT
TZOFFSETFROM:+0100
TZOFFSETTO:+0200
TZNAME:CEST
DTSTART:20200329T010000
END:DAYLIGHT
BEGIN:STANDARD
TZOFFSETFROM:+0200
TZOFFSETTO:+0100
TZNAME:CET
DTSTART:20201025T010000
END:STANDARD
END:VTIMEZONE
BEGIN:VEVENT
DTSTART;TZID=Europe/Paris:20190513T143000
DTEND;TZID=Europe/Paris:20190729T170000
DTSTAMP:20260423T172453
CREATED:20190522T112155Z
LAST-MODIFIED:20190522T112155Z
UID:2069-1557757800-1564419600@livry.fr
SUMMARY:Saison estivale Musée de la Vigne
DESCRIPTION: 
URL:https://livry.fr/event/saison-estivale-musee-de-la-vigne-2/
LOCATION:Riousse – LIVRY\, Riousse\, LIVRY\, Bourgogne\, 58240\, France
ORGANIZER;CN="Mus%C3%A9e de la Vigne":MAILTO:museedelavigne58240@gmail.com
END:VEVENT
BEGIN:VEVENT
DTSTART;TZID=Europe/Paris:20190602T140000
DTEND;TZID=Europe/Paris:20190602T190000
DTSTAMP:20260423T172453
CREATED:20190516T092928Z
LAST-MODIFIED:20190527T093913Z
UID:2044-1559484000-1559502000@livry.fr
SUMMARY:Rallye pédestre "sur les pas de Jeanne"
DESCRIPTION:
URL:https://livry.fr/event/rally-pedestre-sur-les-pas-de-jeanne/
LOCATION:St-Pierre-Le-moûtier\, 58240
END:VEVENT
BEGIN:VEVENT
DTSTART;TZID=Europe/Paris:20190620T163000
DTEND;TZID=Europe/Paris:20190620T180000
DTSTAMP:20260423T172453
CREATED:20190520T074855Z
LAST-MODIFIED:20190520T080102Z
UID:2054-1561048200-1561053600@livry.fr
SUMMARY:Cinéma : Amir et Mina
DESCRIPTION:  \nSYNOPSIS : Amir\, un jeune garçon intrépide\, s’envole sur un tapis volant et entame un incroyable voyage en compagnie de Raya\, sa chèvre\, à la recherche d’un trésor que son vieux voisin lui a demandé de rapporter. Aux portes du Palais du Sultan\, ils rencontrent Mina. Guidés par la jeune fille malicieuse\, ils vont affronter des voleurs\, braver les gardes du Palais\, défier les crocodiles\, et déjouer les plans du Sultan. \n  \nSaint Pierre le Moutier : \nJeudi 20 juin à 16h30 \nTARIFS: RÉDUIT – 3 EUROS / PLEIN –  5 EUROS
URL:https://livry.fr/event/cinema-amir-et-mina/
LOCATION:St-Pierre-Le-moûtier\, 58240
END:VEVENT
BEGIN:VEVENT
DTSTART;TZID=Europe/Paris:20190620T200000
DTEND;TZID=Europe/Paris:20190620T223000
DTSTAMP:20260423T172453
CREATED:20190522T111856Z
LAST-MODIFIED:20190522T112237Z
UID:2066-1561060800-1561069800@livry.fr
SUMMARY:Cinéma : Nous finirons ensemble
DESCRIPTION:  \nSYNOPSIS : Préoccupé\, Max est parti dans sa maison au bord de la mer pour se ressourcer. Sa bande de potes\, qu’il n’a pas vue depuis plus de 3 ans débarque par surprise pour lui fêter son anniversaire ! La surprise est entière mais l’accueil l’est beaucoup moins…\nMax s’enfonce alors dans une comédie du bonheur qui sonne faux\, et qui mettra le groupe dans des situations pour le moins inattendues.\nLes enfants ont grandi\, d’autres sont nés\, les parents n’ont plus les mêmes priorités… Les séparations\, les accidents de la vie… Quand tous décident de ne plus mettre de petits mouchoirs sur les gros bobards\, que reste-t-il de l’amitié ? \n  \nSaint Pierre le Moutier : \nJeudi 20 juin à 20h \nTARIFS: RÉDUIT – 3 EUROS / PLEIN –  5 EUROS
URL:https://livry.fr/event/cinema/
LOCATION:St-Pierre-Le-moûtier\, 58240
END:VEVENT
END:VCALENDAR