BEGIN:VCALENDAR
VERSION:2.0
PRODID:-//Livry - Commune de Livry - ECPv6.15.20//NONSGML v1.0//EN
CALSCALE:GREGORIAN
METHOD:PUBLISH
X-WR-CALNAME:Livry - Commune de Livry
X-ORIGINAL-URL:https://livry.fr
X-WR-CALDESC:Évènements pour Livry - Commune de Livry
REFRESH-INTERVAL;VALUE=DURATION:PT1H
X-Robots-Tag:noindex
X-PUBLISHED-TTL:PT1H
BEGIN:VTIMEZONE
TZID:Europe/Paris
BEGIN:DAYLIGHT
TZOFFSETFROM:+0100
TZOFFSETTO:+0200
TZNAME:CEST
DTSTART:20180325T010000
END:DAYLIGHT
BEGIN:STANDARD
TZOFFSETFROM:+0200
TZOFFSETTO:+0100
TZNAME:CET
DTSTART:20181028T010000
END:STANDARD
BEGIN:DAYLIGHT
TZOFFSETFROM:+0100
TZOFFSETTO:+0200
TZNAME:CEST
DTSTART:20190331T010000
END:DAYLIGHT
BEGIN:STANDARD
TZOFFSETFROM:+0200
TZOFFSETTO:+0100
TZNAME:CET
DTSTART:20191027T010000
END:STANDARD
BEGIN:DAYLIGHT
TZOFFSETFROM:+0100
TZOFFSETTO:+0200
TZNAME:CEST
DTSTART:20200329T010000
END:DAYLIGHT
BEGIN:STANDARD
TZOFFSETFROM:+0200
TZOFFSETTO:+0100
TZNAME:CET
DTSTART:20201025T010000
END:STANDARD
END:VTIMEZONE
BEGIN:VEVENT
DTSTART;TZID=Europe/Paris:20190302T203000
DTEND;TZID=Europe/Paris:20190302T233000
DTSTAMP:20260423T213517
CREATED:20190221T112735Z
LAST-MODIFIED:20190221T112735Z
UID:1955-1551558600-1551569400@livry.fr
SUMMARY:LES BRANDONS
DESCRIPTION:
URL:https://livry.fr/event/les-brandons/
LOCATION:Riousse – LIVRY\, Riousse\, LIVRY\, Bourgogne\, 58240\, France
END:VEVENT
BEGIN:VEVENT
DTSTART;TZID=Europe/Paris:20190312T163000
DTEND;TZID=Europe/Paris:20190312T180000
DTSTAMP:20260423T213517
CREATED:20190116T122845Z
LAST-MODIFIED:20190116T122845Z
UID:1877-1552408200-1552413600@livry.fr
SUMMARY:Cinéma itinérant : Minuscule 2
DESCRIPTION:  \nSYNOPSIS\nQuand tombent les premières neiges dans la vallée\, il est urgent de préparer ses réserves pour l’hiver. Hélas\, durant l’opération\, une petite coccinelle se retrouve piégée dans un carton… à destination des Caraïbes !\nUne seule solution : reformer l’équipe de choc ! La coccinelle\, la fourmi et l’araignée reprennent du service à l’autre bout du monde. Nouveau monde\, nouvelles rencontres\, nouveaux dangers… Les secours arriveront-ils à temps ? \n 
URL:https://livry.fr/event/cinema-itinerant-minuscule-2/
LOCATION:St-Pierre-Le-moûtier\, 58240
END:VEVENT
BEGIN:VEVENT
DTSTART;TZID=Europe/Paris:20190312T203000
DTEND;TZID=Europe/Paris:20190312T214000
DTSTAMP:20260423T213517
CREATED:20190116T123233Z
LAST-MODIFIED:20190116T123233Z
UID:1880-1552422600-1552426800@livry.fr
SUMMARY:Cinéma itinérant : Qu'est-ce qu'on a encore fait au bon Dieu ?
DESCRIPTION:  \nSYNOPSIS\nLe retour des familles Verneuil et Koffi au grand complet !\nClaude et Marie Verneuil font face à une nouvelle crise.\nLeurs quatre gendres\, Rachid\, David\, Chao et Charles sont décidés à quitter la France avec femmes et enfants pour tenter leur chance à l’étranger.\nIncapables d’imaginer leur famille loin d’eux\, Claude et Marie sont prêts à tout pour les retenir.\nDe leur côté\, les Koffi débarquent en France pour le mariage de leur fille. Eux non plus ne sont pas au bout de leurs surprises…
URL:https://livry.fr/event/cinema-itinerant-quest-ce-quon-a-encore-fait-au-bon-dieu/
LOCATION:St-Pierre-Le-moûtier\, 58240
END:VEVENT
BEGIN:VEVENT
DTSTART;VALUE=DATE:20190316
DTEND;VALUE=DATE:20190317
DTSTAMP:20260423T213517
CREATED:20190116T124128Z
LAST-MODIFIED:20190116T124557Z
UID:1883-1552694400-1552780799@livry.fr
SUMMARY:7h pour sauver une vie
DESCRIPTION:
URL:https://livry.fr/event/7h-pour-sauver-une-vie/
LOCATION:St-Pierre-Le-moûtier\, 58240
END:VEVENT
END:VCALENDAR