BEGIN:VCALENDAR
VERSION:2.0
PRODID:-//Livry - Commune de Livry - ECPv6.15.20//NONSGML v1.0//EN
CALSCALE:GREGORIAN
METHOD:PUBLISH
X-WR-CALNAME:Livry - Commune de Livry
X-ORIGINAL-URL:https://livry.fr
X-WR-CALDESC:Évènements pour Livry - Commune de Livry
REFRESH-INTERVAL;VALUE=DURATION:PT1H
X-Robots-Tag:noindex
X-PUBLISHED-TTL:PT1H
BEGIN:VTIMEZONE
TZID:Europe/Paris
BEGIN:DAYLIGHT
TZOFFSETFROM:+0100
TZOFFSETTO:+0200
TZNAME:CEST
DTSTART:20170326T010000
END:DAYLIGHT
BEGIN:STANDARD
TZOFFSETFROM:+0200
TZOFFSETTO:+0100
TZNAME:CET
DTSTART:20171029T010000
END:STANDARD
BEGIN:DAYLIGHT
TZOFFSETFROM:+0100
TZOFFSETTO:+0200
TZNAME:CEST
DTSTART:20180325T010000
END:DAYLIGHT
BEGIN:STANDARD
TZOFFSETFROM:+0200
TZOFFSETTO:+0100
TZNAME:CET
DTSTART:20181028T010000
END:STANDARD
BEGIN:DAYLIGHT
TZOFFSETFROM:+0100
TZOFFSETTO:+0200
TZNAME:CEST
DTSTART:20190331T010000
END:DAYLIGHT
BEGIN:STANDARD
TZOFFSETFROM:+0200
TZOFFSETTO:+0100
TZNAME:CET
DTSTART:20191027T010000
END:STANDARD
END:VTIMEZONE
BEGIN:VEVENT
DTSTART;TZID=Europe/Paris:20181208T144500
DTEND;TZID=Europe/Paris:20181208T170000
DTSTAMP:20260424T012614
CREATED:20181114T121312Z
LAST-MODIFIED:20181116T093800Z
UID:1793-1544280300-1544288400@livry.fr
SUMMARY:Goûter-spectacle de Noël
DESCRIPTION:Le Père Noël vient à Livry ! \n  \nChers Parents\, \nLe Conseil Municipal convie les enfants de Livry scolarisés (de 3 à 10 ans) à un goûter-spectacle avant l’arrivée du Père Noël et des cadeaux. \nSouhaitant offrir un moment privilégié à vos enfants\, nous vous demandons de nous les confier \nle samedi 08 décembre à 14h45.  \nVous viendrez les chercher vers 17h00. \n  \nSi votre enfant n’a pas reçu d’invitation nominative\, merci de contacter de toute urgence la mairie. \n 
URL:https://livry.fr/event/gouter-spectacle-de-noel/
LOCATION:Salle des fêtes\, Route du Veurdre\, LIVRY\, 58240
END:VEVENT
END:VCALENDAR