BEGIN:VCALENDAR
VERSION:2.0
PRODID:-//Livry - Commune de Livry - ECPv6.15.20//NONSGML v1.0//EN
CALSCALE:GREGORIAN
METHOD:PUBLISH
X-WR-CALNAME:Livry - Commune de Livry
X-ORIGINAL-URL:https://livry.fr
X-WR-CALDESC:Évènements pour Livry - Commune de Livry
REFRESH-INTERVAL;VALUE=DURATION:PT1H
X-Robots-Tag:noindex
X-PUBLISHED-TTL:PT1H
BEGIN:VTIMEZONE
TZID:Europe/Paris
BEGIN:DAYLIGHT
TZOFFSETFROM:+0100
TZOFFSETTO:+0200
TZNAME:CEST
DTSTART:20170326T010000
END:DAYLIGHT
BEGIN:STANDARD
TZOFFSETFROM:+0200
TZOFFSETTO:+0100
TZNAME:CET
DTSTART:20171029T010000
END:STANDARD
BEGIN:DAYLIGHT
TZOFFSETFROM:+0100
TZOFFSETTO:+0200
TZNAME:CEST
DTSTART:20180325T010000
END:DAYLIGHT
BEGIN:STANDARD
TZOFFSETFROM:+0200
TZOFFSETTO:+0100
TZNAME:CET
DTSTART:20181028T010000
END:STANDARD
BEGIN:DAYLIGHT
TZOFFSETFROM:+0100
TZOFFSETTO:+0200
TZNAME:CEST
DTSTART:20190331T010000
END:DAYLIGHT
BEGIN:STANDARD
TZOFFSETFROM:+0200
TZOFFSETTO:+0100
TZNAME:CET
DTSTART:20191027T010000
END:STANDARD
END:VTIMEZONE
BEGIN:VEVENT
DTSTART;TZID=Europe/Paris:20180615T150000
DTEND;TZID=Europe/Paris:20180803T180000
DTSTAMP:20260424T075217
CREATED:20180601T085206Z
LAST-MODIFIED:20180601T091714Z
UID:999-1529074800-1533319200@livry.fr
SUMMARY:Saison estivale MUSEE DE LA VIGNE
DESCRIPTION:
URL:https://livry.fr/event/saison-estivale-musee-de-la-vigne/
LOCATION:Riousse – LIVRY\, Riousse\, LIVRY\, Bourgogne\, 58240\, France
ORGANIZER;CN="Mus%C3%A9e de la Vigne":MAILTO:museedelavigne58240@gmail.com
END:VEVENT
BEGIN:VEVENT
DTSTART;TZID=Europe/Paris:20180714T180000
DTEND;TZID=Europe/Paris:20180715T233000
DTSTAMP:20260424T075217
CREATED:20180705T082929Z
LAST-MODIFIED:20180709T162604Z
UID:1037-1531591200-1531697400@livry.fr
SUMMARY:14 juillet
DESCRIPTION:  \nNOUVEAU !  \nLe feu d’artifice sera tiré du stade !
URL:https://livry.fr/event/14-juillet/
LOCATION:LIVRY
END:VEVENT
BEGIN:VEVENT
DTSTART;TZID=Europe/Paris:20180728T144500
DTEND;TZID=Europe/Paris:20180728T163000
DTSTAMP:20260424T075217
CREATED:20180723T113105Z
LAST-MODIFIED:20180723T113105Z
UID:1117-1532789100-1532795400@livry.fr
SUMMARY:Visite de la Cave de la Perrine
DESCRIPTION:
URL:https://livry.fr/event/visite-de-la-cave-de-la-perrine/
LOCATION:LIVRY
END:VEVENT
BEGIN:VEVENT
DTSTART;TZID=Europe/Paris:20180731T180000
DTEND;TZID=Europe/Paris:20180731T220000
DTSTAMP:20260424T075217
CREATED:20180713T102253Z
LAST-MODIFIED:20180713T102253Z
UID:1056-1533060000-1533074400@livry.fr
SUMMARY:Cinéma en juillet
DESCRIPTION:Mardi 31 juillet \n2 films sont à l’affiche : \n  \n                       \n   Le voyage de Lila à 18h                                Bécassine à 20h30 \n  \nSalle de la fraternité  \nAvenue générale de Gaulle  \n58240 Saint-Pierre-Le-Moûtier
URL:https://livry.fr/event/cinema-en-juillet/
LOCATION:St-Pierre-Le-moûtier\, 58240
END:VEVENT
END:VCALENDAR