BEGIN:VCALENDAR
VERSION:2.0
PRODID:-//Livry - Commune de Livry - ECPv6.15.20//NONSGML v1.0//EN
CALSCALE:GREGORIAN
METHOD:PUBLISH
X-ORIGINAL-URL:https://livry.fr
X-WR-CALDESC:Évènements pour Livry - Commune de Livry
REFRESH-INTERVAL;VALUE=DURATION:PT1H
X-Robots-Tag:noindex
X-PUBLISHED-TTL:PT1H
BEGIN:VTIMEZONE
TZID:Europe/Paris
BEGIN:DAYLIGHT
TZOFFSETFROM:+0100
TZOFFSETTO:+0200
TZNAME:CEST
DTSTART:20170326T010000
END:DAYLIGHT
BEGIN:STANDARD
TZOFFSETFROM:+0200
TZOFFSETTO:+0100
TZNAME:CET
DTSTART:20171029T010000
END:STANDARD
BEGIN:DAYLIGHT
TZOFFSETFROM:+0100
TZOFFSETTO:+0200
TZNAME:CEST
DTSTART:20180325T010000
END:DAYLIGHT
BEGIN:STANDARD
TZOFFSETFROM:+0200
TZOFFSETTO:+0100
TZNAME:CET
DTSTART:20181028T010000
END:STANDARD
BEGIN:DAYLIGHT
TZOFFSETFROM:+0100
TZOFFSETTO:+0200
TZNAME:CEST
DTSTART:20190331T010000
END:DAYLIGHT
BEGIN:STANDARD
TZOFFSETFROM:+0200
TZOFFSETTO:+0100
TZNAME:CET
DTSTART:20191027T010000
END:STANDARD
END:VTIMEZONE
BEGIN:VEVENT
DTSTART;TZID=Europe/Paris:20180607T183000
DTEND;TZID=Europe/Paris:20180607T203000
DTSTAMP:20260424T091220
CREATED:20180528T080101Z
LAST-MODIFIED:20180528T080101Z
UID:989-1528396200-1528403400@livry.fr
SUMMARY:SYCTOM
DESCRIPTION:  \nLe SYCTOM de St-Pierre-Le-Moûtier organise une réunion publique \n\nLe jeudi 07 juin 2018 à 18h30 \nà la salle des fêtes de Chantenay-St-Imbert \n  \nOrdre du jour : \n\ninformation générale sur le Syctom\nrappel des consignes existantes\npoint sur l’évolution des tonnages par flux\nannonce des changements de consignes de tri à venir\ntemps d’échange avec la population
URL:https://livry.fr/event/syctom/
LOCATION:Bourgogne
ATTACH;FMTTYPE=image/png:https://livry.fr/wp-content/uploads/2018/05/Logo_Syctom-version-2015.png
END:VEVENT
BEGIN:VEVENT
DTSTART;TZID=Europe/Paris:20180615T150000
DTEND;TZID=Europe/Paris:20180803T180000
DTSTAMP:20260424T091220
CREATED:20180601T085206Z
LAST-MODIFIED:20180601T091714Z
UID:999-1529074800-1533319200@livry.fr
SUMMARY:Saison estivale MUSEE DE LA VIGNE
DESCRIPTION:
URL:https://livry.fr/event/saison-estivale-musee-de-la-vigne/
LOCATION:Riousse – LIVRY\, Riousse\, LIVRY\, Bourgogne\, 58240\, France
ORGANIZER;CN="Mus%C3%A9e de la Vigne":MAILTO:museedelavigne58240@gmail.com
END:VEVENT
BEGIN:VEVENT
DTSTART;TZID=Europe/Paris:20180616T150000
DTEND;TZID=Europe/Paris:20180617T180000
DTSTAMP:20260424T091220
CREATED:20180601T070225Z
LAST-MODIFIED:20180601T091609Z
UID:995-1529161200-1529258400@livry.fr
SUMMARY:Journées du Patrimoine de pays et des Moulins au MUSEE DE LA VIGNE
DESCRIPTION:  \nLe Musée de la Vigne et métiers du terroir sera ouvert de 15h à 18h \n les 16 et 17 juin 2018. \n  \n \n  \nPour connaître les différents sites participant à cette manifestation\, veuillez cliquer sur le lien ci-dessous : \n JPPM 2018 Sites Ouverts
URL:https://livry.fr/event/journees-du-patrimoine-de-pays-et-des-moulins-au-musee-de-la-vigne/
LOCATION:Riousse – LIVRY\, Riousse\, LIVRY\, Bourgogne\, 58240\, France
ORGANIZER;CN="Mus%C3%A9e de la Vigne":MAILTO:museedelavigne58240@gmail.com
END:VEVENT
END:VCALENDAR