BEGIN:VCALENDAR
VERSION:2.0
PRODID:-//Livry - Commune de Livry - ECPv6.15.20//NONSGML v1.0//EN
CALSCALE:GREGORIAN
METHOD:PUBLISH
X-ORIGINAL-URL:https://livry.fr
X-WR-CALDESC:Évènements pour Livry - Commune de Livry
REFRESH-INTERVAL;VALUE=DURATION:PT1H
X-Robots-Tag:noindex
X-PUBLISHED-TTL:PT1H
BEGIN:VTIMEZONE
TZID:Europe/Paris
BEGIN:DAYLIGHT
TZOFFSETFROM:+0100
TZOFFSETTO:+0200
TZNAME:CEST
DTSTART:20230326T010000
END:DAYLIGHT
BEGIN:STANDARD
TZOFFSETFROM:+0200
TZOFFSETTO:+0100
TZNAME:CET
DTSTART:20231029T010000
END:STANDARD
BEGIN:DAYLIGHT
TZOFFSETFROM:+0100
TZOFFSETTO:+0200
TZNAME:CEST
DTSTART:20240331T010000
END:DAYLIGHT
BEGIN:STANDARD
TZOFFSETFROM:+0200
TZOFFSETTO:+0100
TZNAME:CET
DTSTART:20241027T010000
END:STANDARD
BEGIN:DAYLIGHT
TZOFFSETFROM:+0100
TZOFFSETTO:+0200
TZNAME:CEST
DTSTART:20250330T010000
END:DAYLIGHT
BEGIN:STANDARD
TZOFFSETFROM:+0200
TZOFFSETTO:+0100
TZNAME:CET
DTSTART:20251026T010000
END:STANDARD
END:VTIMEZONE
BEGIN:VEVENT
DTSTART;TZID=Europe/Paris:20240121T100000
DTEND;TZID=Europe/Paris:20240121T180000
DTSTAMP:20260420T030945
CREATED:20231122T135003Z
LAST-MODIFIED:20231122T135003Z
UID:4906-1705831200-1705860000@livry.fr
SUMMARY:SAINT VINCENT
DESCRIPTION:Retour de la Saint Vincent à Livry !  \n\n\n\n\nC’est avec joie que nous vous annonçons le retour de la Saint Vincent à Livry\, grâce à la détermination de nos vignerons\, Guillaume et Fabrice. La première édition de cette belle tradition voit enfin le jour\, marquant le renouveau d’une commune fière de son passé viticole et de son histoire qui continue de s’écrire.\n\n\nLe 21 janvier 2024\, l’événement aura lieu au domaine du “Bois Bourbon” et se veut itinérant\, insufflant ainsi une nouvelle dynamique à cette manifestation annuelle. En 2025\, le domaine de la Perrine aura l’honneur d’accueillir cette fête empreinte de convivialité. \n\n Au programme :\n10h00 – Messe\n11h00 – Vin d’honneur devant l’église\n11h45 – Procession\n12h30 – Repas sous chapiteau chauffé au domaine du Bois Bourbon (places limitées\, réservation obligatoire) \n\n\n\n Le repas\, un moment privilégié\, sera servi sur réservation. Les places étant limitées\, nous vous encourageons à réserver dès maintenant pour ne pas manquer cette expérience gustative unique.\n Réservation au 06 59 56 05 63 \n\n\n\nUn grand merci à Guillaume et Fabrice pour leur engagement dans la préservation et la célébration de notre patrimoine viticole. Nous avons hâte de partager ensemble ce moment festif et de perpétuer la tradition de la Saint Vincent à Livry !
URL:https://livry.fr/event/saint-vincent/
LOCATION:Domaine de Bois Bourbon\, chemin de la Ribaine\, LIVRY\, 58240
END:VEVENT
END:VCALENDAR