BEGIN:VCALENDAR
VERSION:2.0
PRODID:-//Livry - Commune de Livry - ECPv6.15.20//NONSGML v1.0//EN
CALSCALE:GREGORIAN
METHOD:PUBLISH
X-ORIGINAL-URL:https://livry.fr
X-WR-CALDESC:Évènements pour Livry - Commune de Livry
REFRESH-INTERVAL;VALUE=DURATION:PT1H
X-Robots-Tag:noindex
X-PUBLISHED-TTL:PT1H
BEGIN:VTIMEZONE
TZID:Europe/Paris
BEGIN:DAYLIGHT
TZOFFSETFROM:+0100
TZOFFSETTO:+0200
TZNAME:CEST
DTSTART:20220327T010000
END:DAYLIGHT
BEGIN:STANDARD
TZOFFSETFROM:+0200
TZOFFSETTO:+0100
TZNAME:CET
DTSTART:20221030T010000
END:STANDARD
BEGIN:DAYLIGHT
TZOFFSETFROM:+0100
TZOFFSETTO:+0200
TZNAME:CEST
DTSTART:20230326T010000
END:DAYLIGHT
BEGIN:STANDARD
TZOFFSETFROM:+0200
TZOFFSETTO:+0100
TZNAME:CET
DTSTART:20231029T010000
END:STANDARD
BEGIN:DAYLIGHT
TZOFFSETFROM:+0100
TZOFFSETTO:+0200
TZNAME:CEST
DTSTART:20240331T010000
END:DAYLIGHT
BEGIN:STANDARD
TZOFFSETFROM:+0200
TZOFFSETTO:+0100
TZNAME:CET
DTSTART:20241027T010000
END:STANDARD
END:VTIMEZONE
BEGIN:VEVENT
DTSTART;TZID=Europe/Paris:20231210T090000
DTEND;TZID=Europe/Paris:20231210T180000
DTSTAMP:20260420T051327
CREATED:20231122T150653Z
LAST-MODIFIED:20231122T150653Z
UID:4914-1702198800-1702231200@livry.fr
SUMMARY:EXPOSITION PEINTURE
DESCRIPTION:  \n  \n Exposition peinture  \nUne exposition de peinture est organisée par\, Jacky Paris\, l’un de nos artistes communaux.\nVenez découvrir sa collection d’œuvres\, fruit de plus d’une décennie de passion artistique. \n Date : Dimanche 10 décembre\n Lieu : Salle des fêtes de LIVRY \nC’est une opportunité unique de découvrir et peut-être d’acquérir des pièces pour les fêtes de fin d’année. \nIl vous attends nombreux pour partager ce moment. \nFaites passer le mot et venez nombreux !
URL:https://livry.fr/event/exposition-peinture/
LOCATION:Salle des fêtes – LIVRY\, Le bourg\, LIVRY\, 58240
END:VEVENT
END:VCALENDAR