BEGIN:VCALENDAR
VERSION:2.0
PRODID:-//Livry - Commune de Livry - ECPv6.15.20//NONSGML v1.0//EN
CALSCALE:GREGORIAN
METHOD:PUBLISH
X-WR-CALNAME:Livry - Commune de Livry
X-ORIGINAL-URL:https://livry.fr
X-WR-CALDESC:Évènements pour Livry - Commune de Livry
REFRESH-INTERVAL;VALUE=DURATION:PT1H
X-Robots-Tag:noindex
X-PUBLISHED-TTL:PT1H
BEGIN:VTIMEZONE
TZID:Europe/Paris
BEGIN:DAYLIGHT
TZOFFSETFROM:+0100
TZOFFSETTO:+0200
TZNAME:CEST
DTSTART:20220327T010000
END:DAYLIGHT
BEGIN:STANDARD
TZOFFSETFROM:+0200
TZOFFSETTO:+0100
TZNAME:CET
DTSTART:20221030T010000
END:STANDARD
BEGIN:DAYLIGHT
TZOFFSETFROM:+0100
TZOFFSETTO:+0200
TZNAME:CEST
DTSTART:20230326T010000
END:DAYLIGHT
BEGIN:STANDARD
TZOFFSETFROM:+0200
TZOFFSETTO:+0100
TZNAME:CET
DTSTART:20231029T010000
END:STANDARD
BEGIN:DAYLIGHT
TZOFFSETFROM:+0100
TZOFFSETTO:+0200
TZNAME:CEST
DTSTART:20240331T010000
END:DAYLIGHT
BEGIN:STANDARD
TZOFFSETFROM:+0200
TZOFFSETTO:+0100
TZNAME:CET
DTSTART:20241027T010000
END:STANDARD
END:VTIMEZONE
BEGIN:VEVENT
DTSTART;TZID=Europe/Paris:20230712T150000
DTEND;TZID=Europe/Paris:20230712T170000
DTSTAMP:20260420T124451
CREATED:20230707T080629Z
LAST-MODIFIED:20230707T080629Z
UID:4349-1689174000-1689181200@livry.fr
SUMMARY:Visite de la forge du Ginkgo
DESCRIPTION:VISITE DE LA FORGE DU GINKGO  \n\n\n\n Venez découvrir le métier passionnant de coutelier dans la forge du Ginkgo avec la démonstration des techniques de coutellerie et du métier de forgeron !\n\n\n Forge du Ginkgo\n Mercredi 12 juillet\n 15h sur place\n Tarif : 3€ adulte et 1\,50€ pour les -12 ans\n Inscription à l’Office du Tourisme au 03.86.37.21.25 ou 06.62.64.84.96\n La forge du Ginkgo 58240 Livry\n Organisée par la forge du Ginkgo et l’Office de Tourisme Saint-Pierre Magny-Cours
URL:https://livry.fr/event/visite-de-la-forge-du-ginkgo/
LOCATION:LIVRY
END:VEVENT
END:VCALENDAR