BEGIN:VCALENDAR
VERSION:2.0
PRODID:-//Livry - Commune de Livry - ECPv6.15.20//NONSGML v1.0//EN
CALSCALE:GREGORIAN
METHOD:PUBLISH
X-ORIGINAL-URL:https://livry.fr
X-WR-CALDESC:Évènements pour Livry - Commune de Livry
REFRESH-INTERVAL;VALUE=DURATION:PT1H
X-Robots-Tag:noindex
X-PUBLISHED-TTL:PT1H
BEGIN:VTIMEZONE
TZID:Europe/Paris
BEGIN:DAYLIGHT
TZOFFSETFROM:+0100
TZOFFSETTO:+0200
TZNAME:CEST
DTSTART:20190331T010000
END:DAYLIGHT
BEGIN:STANDARD
TZOFFSETFROM:+0200
TZOFFSETTO:+0100
TZNAME:CET
DTSTART:20191027T010000
END:STANDARD
BEGIN:DAYLIGHT
TZOFFSETFROM:+0100
TZOFFSETTO:+0200
TZNAME:CEST
DTSTART:20200329T010000
END:DAYLIGHT
BEGIN:STANDARD
TZOFFSETFROM:+0200
TZOFFSETTO:+0100
TZNAME:CET
DTSTART:20201025T010000
END:STANDARD
BEGIN:DAYLIGHT
TZOFFSETFROM:+0100
TZOFFSETTO:+0200
TZNAME:CEST
DTSTART:20210328T010000
END:DAYLIGHT
BEGIN:STANDARD
TZOFFSETFROM:+0200
TZOFFSETTO:+0100
TZNAME:CET
DTSTART:20211031T010000
END:STANDARD
END:VTIMEZONE
BEGIN:VEVENT
DTSTART;TZID=Europe/Paris:20200531T111500
DTEND;TZID=Europe/Paris:20200531T123000
DTSTAMP:20260423T012100
CREATED:20200527T112623Z
LAST-MODIFIED:20200527T112623Z
UID:2737-1590923700-1590928200@livry.fr
SUMMARY:Messe de la Pentecôte
DESCRIPTION:MESSE DE LA PENTECÔTE \n  \nPour les communes de :  \nLIVRY \nLANGERON \nAZY \nST-PIERRE-LE-MOÛTIER
URL:https://livry.fr/event/messe-de-la-pentecote/
LOCATION:Eglise de LIVRY\, Le bourg\, LIVRY\, 58240
ATTACH;FMTTYPE=image/jpeg:https://livry.fr/wp-content/uploads/2020/05/église.jpg
END:VEVENT
END:VCALENDAR