BEGIN:VCALENDAR
VERSION:2.0
PRODID:-//Livry - Commune de Livry - ECPv6.15.20//NONSGML v1.0//EN
CALSCALE:GREGORIAN
METHOD:PUBLISH
X-WR-CALNAME:Livry - Commune de Livry
X-ORIGINAL-URL:https://livry.fr
X-WR-CALDESC:Évènements pour Livry - Commune de Livry
REFRESH-INTERVAL;VALUE=DURATION:PT1H
X-Robots-Tag:noindex
X-PUBLISHED-TTL:PT1H
BEGIN:VTIMEZONE
TZID:Europe/Paris
BEGIN:DAYLIGHT
TZOFFSETFROM:+0100
TZOFFSETTO:+0200
TZNAME:CEST
DTSTART:20190331T010000
END:DAYLIGHT
BEGIN:STANDARD
TZOFFSETFROM:+0200
TZOFFSETTO:+0100
TZNAME:CET
DTSTART:20191027T010000
END:STANDARD
BEGIN:DAYLIGHT
TZOFFSETFROM:+0100
TZOFFSETTO:+0200
TZNAME:CEST
DTSTART:20200329T010000
END:DAYLIGHT
BEGIN:STANDARD
TZOFFSETFROM:+0200
TZOFFSETTO:+0100
TZNAME:CET
DTSTART:20201025T010000
END:STANDARD
BEGIN:DAYLIGHT
TZOFFSETFROM:+0100
TZOFFSETTO:+0200
TZNAME:CEST
DTSTART:20210328T010000
END:DAYLIGHT
BEGIN:STANDARD
TZOFFSETFROM:+0200
TZOFFSETTO:+0100
TZNAME:CET
DTSTART:20211031T010000
END:STANDARD
END:VTIMEZONE
BEGIN:VEVENT
DTSTART;TZID=Europe/Paris:20200323T163000
DTEND;TZID=Europe/Paris:20200323T180000
DTSTAMP:20260423T043745
CREATED:20200305T121233Z
LAST-MODIFIED:20200305T121233Z
UID:2538-1584981000-1584986400@livry.fr
SUMMARY:Cinéma itinérant : Samsam
DESCRIPTION:  \nGenres : Aventure \n  \n\n\nSYNOPSIS\n\n\n\n\nSamSam\, le plus petit des grands héros\, n’a toujours pas découvert son premier super pouvoir\, alors qu’à la maison et à l’école\, tout le monde en a un !  Devant l’inquiétude de ses parents et les moqueries de ses camarades\, il part à la recherche de ce pouvoir caché. Avec l’aide de Méga\, la nouvelle élève mystérieuse de son école\, Samsam se lance dans cette aventure pleine de monstres cosmiques… \n\n\n  \nSaint Pierre le Moutier : \nLundi 23 mars à 16h30
URL:https://livry.fr/event/cinema-itinerant-samsam/
LOCATION:St-Pierre-Le-moûtier\, 58240
END:VEVENT
BEGIN:VEVENT
DTSTART;TZID=Europe/Paris:20200323T200000
DTEND;TZID=Europe/Paris:20200323T213000
DTSTAMP:20260423T043745
CREATED:20200305T121737Z
LAST-MODIFIED:20200305T121737Z
UID:2541-1584993600-1584999000@livry.fr
SUMMARY:Cinéma itinérant : La fille au bracelet
DESCRIPTION:  \n  \nAvec :  Melissa Guers\, Chiara Mastroianni\, Roschdy Zem \nGenres : Drame\, Judiciaire – 1h36 \n  \n  \nSYNOPSIS : \nLise\, 18 ans\, vit dans un quartier résidentiel sans histoire et vient d’avoir son bac. Mais depuis deux ans\, Lise porte un bracelet car elle est accusée d’avoir assassiné sa meilleure amie. \n  \n  \nSaint Pierre le Moutier : \nLundi 23 mars à 20h
URL:https://livry.fr/event/cinema-itinerant-la-fille-au-bracelet/
LOCATION:St-Pierre-Le-moûtier\, 58240
END:VEVENT
END:VCALENDAR