BEGIN:VCALENDAR
VERSION:2.0
PRODID:-//Livry - Commune de Livry - ECPv6.15.20//NONSGML v1.0//EN
CALSCALE:GREGORIAN
METHOD:PUBLISH
X-ORIGINAL-URL:https://livry.fr
X-WR-CALDESC:Évènements pour Livry - Commune de Livry
REFRESH-INTERVAL;VALUE=DURATION:PT1H
X-Robots-Tag:noindex
X-PUBLISHED-TTL:PT1H
BEGIN:VTIMEZONE
TZID:Europe/Paris
BEGIN:DAYLIGHT
TZOFFSETFROM:+0100
TZOFFSETTO:+0200
TZNAME:CEST
DTSTART:20190331T010000
END:DAYLIGHT
BEGIN:STANDARD
TZOFFSETFROM:+0200
TZOFFSETTO:+0100
TZNAME:CET
DTSTART:20191027T010000
END:STANDARD
BEGIN:DAYLIGHT
TZOFFSETFROM:+0100
TZOFFSETTO:+0200
TZNAME:CEST
DTSTART:20200329T010000
END:DAYLIGHT
BEGIN:STANDARD
TZOFFSETFROM:+0200
TZOFFSETTO:+0100
TZNAME:CET
DTSTART:20201025T010000
END:STANDARD
BEGIN:DAYLIGHT
TZOFFSETFROM:+0100
TZOFFSETTO:+0200
TZNAME:CEST
DTSTART:20210328T010000
END:DAYLIGHT
BEGIN:STANDARD
TZOFFSETFROM:+0200
TZOFFSETTO:+0100
TZNAME:CET
DTSTART:20211031T010000
END:STANDARD
END:VTIMEZONE
BEGIN:VEVENT
DTSTART;TZID=Europe/Paris:20200310T163000
DTEND;TZID=Europe/Paris:20200310T180000
DTSTAMP:20260423T044314
CREATED:20200305T120512Z
LAST-MODIFIED:20200305T120512Z
UID:2535-1583857800-1583863200@livry.fr
SUMMARY:Cinéma itinérant : Mission Yéti
DESCRIPTION:  \n\n\n\nAvec :  Sylvie Moreau\, Guillaume Lemay-Thivierge\, Rachid Badouri \nGenres : Aventure – 1h20 \n\nSYNOPSIS\n\n\n\n\nQuébec\, 1956. Les destins de Nelly Maloye\, détective privée débutante et Simon Picard\, assistant de recherche en sciences\, se croisent accidentellement. Soutenus par un mécène ambitieux\, Maloye\, intuitive et chaotique\, et Picard\, méthodique et obsessionnel\, se lancent dans une aventure visant a prouver l’existence du Yéti. Pour y arriver\, Simon compte sur le journal d’un explorateur pour les mener au repaire de la créature mythique. Accompagnés de Tensing\, un jeune guide Sherpa\, et de Jasmin\, un mainate bavard\, ils sont confrontés à de nombreux dangers au cœur de l’Himalaya. \n\n\n  \nSaint Pierre le Moutier : \nMardi 10 mars à 16h30 \n 
URL:https://livry.fr/event/cinema-itinerant-mission-yeti/
LOCATION:St-Pierre-Le-moûtier\, 58240
END:VEVENT
END:VCALENDAR