BEGIN:VCALENDAR
VERSION:2.0
PRODID:-//Livry - Commune de Livry - ECPv6.15.20//NONSGML v1.0//EN
CALSCALE:GREGORIAN
METHOD:PUBLISH
X-ORIGINAL-URL:https://livry.fr
X-WR-CALDESC:Évènements pour Livry - Commune de Livry
REFRESH-INTERVAL;VALUE=DURATION:PT1H
X-Robots-Tag:noindex
X-PUBLISHED-TTL:PT1H
BEGIN:VTIMEZONE
TZID:Europe/Paris
BEGIN:DAYLIGHT
TZOFFSETFROM:+0100
TZOFFSETTO:+0200
TZNAME:CEST
DTSTART:20190331T010000
END:DAYLIGHT
BEGIN:STANDARD
TZOFFSETFROM:+0200
TZOFFSETTO:+0100
TZNAME:CET
DTSTART:20191027T010000
END:STANDARD
BEGIN:DAYLIGHT
TZOFFSETFROM:+0100
TZOFFSETTO:+0200
TZNAME:CEST
DTSTART:20200329T010000
END:DAYLIGHT
BEGIN:STANDARD
TZOFFSETFROM:+0200
TZOFFSETTO:+0100
TZNAME:CET
DTSTART:20201025T010000
END:STANDARD
BEGIN:DAYLIGHT
TZOFFSETFROM:+0100
TZOFFSETTO:+0200
TZNAME:CEST
DTSTART:20210328T010000
END:DAYLIGHT
BEGIN:STANDARD
TZOFFSETFROM:+0200
TZOFFSETTO:+0100
TZNAME:CET
DTSTART:20211031T010000
END:STANDARD
END:VTIMEZONE
BEGIN:VEVENT
DTSTART;TZID=Europe/Paris:20200211T163000
DTEND;TZID=Europe/Paris:20200211T181500
DTSTAMP:20260423T061107
CREATED:20200115T125004Z
LAST-MODIFIED:20200115T125004Z
UID:2428-1581438600-1581444900@livry.fr
SUMMARY:Cinéma itinérant : Les incognitos
DESCRIPTION:  \nAvec :  Will Smith\, Tom Holland\, Rashida Jones \nGenres : Comédie\, Action – 1h42 \n  \n\n\nSYNOPSIS\n\n\n\n\nLe super espion Lance Sterling et le scientifique Walter Beckett ont des personnalités radicalement opposées. Lance est relax\, cool et il a du style. Walter est … tout l’inverse. Certes\, il n’est pas très à l’aise en société mais son intelligence et son génie créatif lui permettent d’imaginer les gadgets impressionnants que Lance utilise sur le terrain. Alors qu’une mission tourne mal\, Walter et Lance vont devoir unir leurs forces. Si ce duo excentrique ne parvient pas à s’entraider\, le monde est en danger ! \n\n  \n  \nSaint Pierre le Moutier : \nMardi 11 février à 16h30
URL:https://livry.fr/event/cinema-itinerant-les-incognitos/
LOCATION:St-Pierre-Le-moûtier\, 58240
END:VEVENT
BEGIN:VEVENT
DTSTART;TZID=Europe/Paris:20200211T200000
DTEND;TZID=Europe/Paris:20200211T220000
DTSTAMP:20260423T061107
CREATED:20200115T125647Z
LAST-MODIFIED:20200115T125647Z
UID:2431-1581451200-1581458400@livry.fr
SUMMARY:Cinéma itinérant : La Vérité
DESCRIPTION:  \nAvec : Catherine Deneuve\, Juliette Binoche\, Ethan Hawke \nGenres : Drame – 1h47 \n  \n\n\nSYNOPSIS\n\n\n\n\nFabienne\, icône du cinéma\, est la mère de Lumir\, scénariste à New York. La publication des mémoires de cette grande actrice incite Lumir et sa famille à revenir dans la maison de son enfance. Mais les retrouvailles vont vite tourner à la confrontation : vérités cachées\, rancunes inavouées\, amours impossibles se révèlent sous le regard médusé des hommes. Fabienne est en plein tournage d’un film de science-fiction où elle incarne la fille âgée d’une mère éternellement jeune. Réalité et fiction se confondent obligeant mère et fille à se retrouver… \n\n\n  \nSaint Pierre le Moutier : \nMardi 11 février à 20h
URL:https://livry.fr/event/cinema-itinerant-la-verite/
LOCATION:St-Pierre-Le-moûtier\, 58240
END:VEVENT
END:VCALENDAR