BEGIN:VCALENDAR
VERSION:2.0
PRODID:-//Livry - Commune de Livry - ECPv6.15.20//NONSGML v1.0//EN
CALSCALE:GREGORIAN
METHOD:PUBLISH
X-ORIGINAL-URL:https://livry.fr
X-WR-CALDESC:Évènements pour Livry - Commune de Livry
REFRESH-INTERVAL;VALUE=DURATION:PT1H
X-Robots-Tag:noindex
X-PUBLISHED-TTL:PT1H
BEGIN:VTIMEZONE
TZID:Europe/Paris
BEGIN:DAYLIGHT
TZOFFSETFROM:+0100
TZOFFSETTO:+0200
TZNAME:CEST
DTSTART:20180325T010000
END:DAYLIGHT
BEGIN:STANDARD
TZOFFSETFROM:+0200
TZOFFSETTO:+0100
TZNAME:CET
DTSTART:20181028T010000
END:STANDARD
BEGIN:DAYLIGHT
TZOFFSETFROM:+0100
TZOFFSETTO:+0200
TZNAME:CEST
DTSTART:20190331T010000
END:DAYLIGHT
BEGIN:STANDARD
TZOFFSETFROM:+0200
TZOFFSETTO:+0100
TZNAME:CET
DTSTART:20191027T010000
END:STANDARD
BEGIN:DAYLIGHT
TZOFFSETFROM:+0100
TZOFFSETTO:+0200
TZNAME:CEST
DTSTART:20200329T010000
END:DAYLIGHT
BEGIN:STANDARD
TZOFFSETFROM:+0200
TZOFFSETTO:+0100
TZNAME:CET
DTSTART:20201025T010000
END:STANDARD
END:VTIMEZONE
BEGIN:VEVENT
DTSTART;TZID=Europe/Paris:20191221T163000
DTEND;TZID=Europe/Paris:20191221T173000
DTSTAMP:20260423T092657
CREATED:20191030T121643Z
LAST-MODIFIED:20191030T121643Z
UID:2318-1576945800-1576949400@livry.fr
SUMMARY:Cinéma itinérant : La fameuse invasion des ours en Sicile
DESCRIPTION:  \nAvec : Jean-Claude Carrière\, Leïla Bekhti\, Thomas Bidegain \nGenres : Aventure – 1h22 \n  \n\n\nSYNOPSIS\n\n\n\n\nTout commence le jour où Tonio\, le fils du roi des ours\, est enlevé par des chasseurs dans les montagnes de Sicile… Profitant de la rigueur d’un hiver qui menace son peuple de famine\, le roi décide alors d’envahir la plaine où habitent les hommes. Avec l’aide de son armée et d’un magicien\, il réussit à vaincre et finit par retrouver Tonio. Mais il comprend vite que le peuple des ours n’est pas fait pour vivre au pays des hommes… \n\n\n  \nSaint Pierre le Moutier :\nLundi 21 décembre à 16h30
URL:https://livry.fr/event/cinema-itinerant-la-fameuse-invasion-des-ours-en-sicile/
LOCATION:St-Pierre-Le-moûtier\, 58240
END:VEVENT
BEGIN:VEVENT
DTSTART;TZID=Europe/Paris:20191221T200000
DTEND;TZID=Europe/Paris:20191221T220000
DTSTAMP:20260423T092657
CREATED:20191030T114557Z
LAST-MODIFIED:20191030T114557Z
UID:2309-1576958400-1576965600@livry.fr
SUMMARY:Cinéma itinérant : Alice et le Maire
DESCRIPTION:  \nAvec :   Fabrice Luchini\, Anaïs Demoustier\, Nora Hamzawi \nGenres : Comédie dramatique – 1h43 \n  \n\n\nSYNOPSIS\n\n\n\n\nLe maire de Lyon\, Paul Théraneau\, va mal. Il n’a plus une seule idée. Après trente ans de vie politique\, il se sent complètement vide. Pour remédier à ce problème\, on décide de lui adjoindre une jeune et brillante philosophe\, Alice Heimann. Un dialogue se noue\, qui rapproche Alice et le maire et ébranle leurs certitudes. \n\n  \nSaint Pierre le Moutier :\nLundi 21 décembre à 20h
URL:https://livry.fr/event/cinema-itinerant-alice-et-le-maire/
LOCATION:St-Pierre-Le-moûtier\, 58240
END:VEVENT
END:VCALENDAR