BEGIN:VCALENDAR
VERSION:2.0
PRODID:-//Livry - Commune de Livry - ECPv6.15.20//NONSGML v1.0//EN
CALSCALE:GREGORIAN
METHOD:PUBLISH
X-WR-CALNAME:Livry - Commune de Livry
X-ORIGINAL-URL:https://livry.fr
X-WR-CALDESC:Évènements pour Livry - Commune de Livry
REFRESH-INTERVAL;VALUE=DURATION:PT1H
X-Robots-Tag:noindex
X-PUBLISHED-TTL:PT1H
BEGIN:VTIMEZONE
TZID:Europe/Paris
BEGIN:DAYLIGHT
TZOFFSETFROM:+0100
TZOFFSETTO:+0200
TZNAME:CEST
DTSTART:20180325T010000
END:DAYLIGHT
BEGIN:STANDARD
TZOFFSETFROM:+0200
TZOFFSETTO:+0100
TZNAME:CET
DTSTART:20181028T010000
END:STANDARD
BEGIN:DAYLIGHT
TZOFFSETFROM:+0100
TZOFFSETTO:+0200
TZNAME:CEST
DTSTART:20190331T010000
END:DAYLIGHT
BEGIN:STANDARD
TZOFFSETFROM:+0200
TZOFFSETTO:+0100
TZNAME:CET
DTSTART:20191027T010000
END:STANDARD
BEGIN:DAYLIGHT
TZOFFSETFROM:+0100
TZOFFSETTO:+0200
TZNAME:CEST
DTSTART:20200329T010000
END:DAYLIGHT
BEGIN:STANDARD
TZOFFSETFROM:+0200
TZOFFSETTO:+0100
TZNAME:CET
DTSTART:20201025T010000
END:STANDARD
END:VTIMEZONE
BEGIN:VEVENT
DTSTART;TZID=Europe/Paris:20191019T210000
DTEND;TZID=Europe/Paris:20191020T180000
DTSTAMP:20260423T123619
CREATED:20191002T103613Z
LAST-MODIFIED:20191002T103613Z
UID:2288-1571518800-1571594400@livry.fr
SUMMARY:BOUSCULAT 2019
DESCRIPTION:  \nTous les ans\, au mois d’octobre\, se déroule ici la Bousculat. Cette fête vigneronne célèbre les entonnailles : musiques\, danses\, chants et rires accompagnent la dégustation du bourru\, produit de la treille tout juste vendangée au début de sa fermentation\, entre jus de raisin et vin en devenir. \n  \nAlors n’hésitez pas à nous rendre visite\, nous vous attendons nombreux ! \n \n 
URL:https://livry.fr/event/bousculat-2019/
LOCATION:Riousse – LIVRY\, Riousse\, LIVRY\, Bourgogne\, 58240\, France
END:VEVENT
END:VCALENDAR