BEGIN:VCALENDAR
VERSION:2.0
PRODID:-//Livry - Commune de Livry - ECPv6.15.20//NONSGML v1.0//EN
CALSCALE:GREGORIAN
METHOD:PUBLISH
X-WR-CALNAME:Livry - Commune de Livry
X-ORIGINAL-URL:https://livry.fr
X-WR-CALDESC:Évènements pour Livry - Commune de Livry
REFRESH-INTERVAL;VALUE=DURATION:PT1H
X-Robots-Tag:noindex
X-PUBLISHED-TTL:PT1H
BEGIN:VTIMEZONE
TZID:Europe/Paris
BEGIN:DAYLIGHT
TZOFFSETFROM:+0100
TZOFFSETTO:+0200
TZNAME:CEST
DTSTART:20180325T010000
END:DAYLIGHT
BEGIN:STANDARD
TZOFFSETFROM:+0200
TZOFFSETTO:+0100
TZNAME:CET
DTSTART:20181028T010000
END:STANDARD
BEGIN:DAYLIGHT
TZOFFSETFROM:+0100
TZOFFSETTO:+0200
TZNAME:CEST
DTSTART:20190331T010000
END:DAYLIGHT
BEGIN:STANDARD
TZOFFSETFROM:+0200
TZOFFSETTO:+0100
TZNAME:CET
DTSTART:20191027T010000
END:STANDARD
BEGIN:DAYLIGHT
TZOFFSETFROM:+0100
TZOFFSETTO:+0200
TZNAME:CEST
DTSTART:20200329T010000
END:DAYLIGHT
BEGIN:STANDARD
TZOFFSETFROM:+0200
TZOFFSETTO:+0100
TZNAME:CET
DTSTART:20201025T010000
END:STANDARD
END:VTIMEZONE
BEGIN:VEVENT
DTSTART;TZID=Europe/Paris:20191015T163000
DTEND;TZID=Europe/Paris:20191015T180000
DTSTAMP:20260423T123617
CREATED:20190918T113637Z
LAST-MODIFIED:20190918T113637Z
UID:2274-1571157000-1571162400@livry.fr
SUMMARY:Cinéma itinérant : DORA et la cité perdue
DESCRIPTION:  \nSYNOPSIS : Après des années à explorer la jungle avec ses parents\, Dora se prépare à vivre l’épreuve la plus difficile de sa vie : l’entrée au lycée ! Son âme d’exploratrice resurgit quand elle doit voler à la rescousse de ses parents en danger.\nAccompagnée de son fidèle singe Babouche\, de son cousin Diego et de nouveaux amis hauts en couleur\, Dora embarque dans une folle aventure qui l’amènera à percer le mystère de la Cité d’or perdue. \n  \nSaint Pierre le moutier:\nMardi 15 octobre à 16h30
URL:https://livry.fr/event/cinema-itinerant-dora-et-la-cite-perdue-2/
LOCATION:St-Pierre-Le-moûtier\, 58240
END:VEVENT
BEGIN:VEVENT
DTSTART;TZID=Europe/Paris:20191015T200000
DTEND;TZID=Europe/Paris:20191015T220000
DTSTAMP:20260423T123617
CREATED:20190918T114418Z
LAST-MODIFIED:20190918T114418Z
UID:2277-1571169600-1571176800@livry.fr
SUMMARY:Cinéma itinérant : Fête de famille
DESCRIPTION:  \nDe Cédric Kahn \nAvec Catherine Deneuve\, Emmanuelle Bercot\, Vincent Macaigne\nGenres Drame\, Comédie Français\n\n\nSYNOPSIS : « Aujourd’hui c’est mon anniversaire et j’aimerais qu’on ne parle que de choses joyeuses. »\nAndréa ne sait pas encore que l’arrivée « surprise » de sa fille aînée\, Claire\, disparue depuis 3 ans et bien décidée à reprendre ce qui lui est dû\, va bouleverser le programme et déclencher une tempête familiale.\n\n\nSaint PIerre le moutier\nMardi 15 octobre à 20h
URL:https://livry.fr/event/cinema-itinerant-fete-de-famille/
LOCATION:St-Pierre-Le-moûtier\, 58240
END:VEVENT
END:VCALENDAR