BEGIN:VCALENDAR
VERSION:2.0
PRODID:-//Livry - Commune de Livry - ECPv6.15.20//NONSGML v1.0//EN
CALSCALE:GREGORIAN
METHOD:PUBLISH
X-WR-CALNAME:Livry - Commune de Livry
X-ORIGINAL-URL:https://livry.fr
X-WR-CALDESC:Évènements pour Livry - Commune de Livry
REFRESH-INTERVAL;VALUE=DURATION:PT1H
X-Robots-Tag:noindex
X-PUBLISHED-TTL:PT1H
BEGIN:VTIMEZONE
TZID:Europe/Paris
BEGIN:DAYLIGHT
TZOFFSETFROM:+0100
TZOFFSETTO:+0200
TZNAME:CEST
DTSTART:20180325T010000
END:DAYLIGHT
BEGIN:STANDARD
TZOFFSETFROM:+0200
TZOFFSETTO:+0100
TZNAME:CET
DTSTART:20181028T010000
END:STANDARD
BEGIN:DAYLIGHT
TZOFFSETFROM:+0100
TZOFFSETTO:+0200
TZNAME:CEST
DTSTART:20190331T010000
END:DAYLIGHT
BEGIN:STANDARD
TZOFFSETFROM:+0200
TZOFFSETTO:+0100
TZNAME:CET
DTSTART:20191027T010000
END:STANDARD
BEGIN:DAYLIGHT
TZOFFSETFROM:+0100
TZOFFSETTO:+0200
TZNAME:CEST
DTSTART:20200329T010000
END:DAYLIGHT
BEGIN:STANDARD
TZOFFSETFROM:+0200
TZOFFSETTO:+0100
TZNAME:CET
DTSTART:20201025T010000
END:STANDARD
END:VTIMEZONE
BEGIN:VEVENT
DTSTART;TZID=Europe/Paris:20190930T163000
DTEND;TZID=Europe/Paris:20190930T180000
DTSTAMP:20260423T123805
CREATED:20190905T073931Z
LAST-MODIFIED:20190918T113104Z
UID:2250-1569861000-1569866400@livry.fr
SUMMARY:Cinéma itinérant : TOY STORY 4
DESCRIPTION:  \nSYNOPSIS : Woody a toujours privilégié la joie et le bien-être de ses jeunes propriétaires – Andy puis Bonnie – et de ses compagnons\, n’hésitant pas à prendre tous les risques pour eux\, aussi inconsidérés soient-ils. L’arrivée de Forky un nouveau jouet qui ne veut pas en être un dans la chambre de Bonnie met toute la petite bande en émoi. C’est le début d’une grande aventure et d’un extraordinaire voyage pour Woody et ses amis. Le cowboy va découvrir à quel point le monde peut être vaste pour un jouet… \n  \nSaint Pierre le moutier:\nLundi 30 septembre 16h30
URL:https://livry.fr/event/cinema-itinerant-dora-et-la-cite-perdue/
LOCATION:St-Pierre-Le-moûtier\, 58240
END:VEVENT
BEGIN:VEVENT
DTSTART;TZID=Europe/Paris:20190930T200000
DTEND;TZID=Europe/Paris:20190930T213000
DTSTAMP:20260423T123805
CREATED:20190905T074605Z
LAST-MODIFIED:20190905T074605Z
UID:2253-1569873600-1569879000@livry.fr
SUMMARY:Cinéma itinérant : Venise n'est pas en Italie
DESCRIPTION:  \nSYNOPSIS : La famille Chamodot est fantasque et inclassable. Bernard\, le père\, un peu doux-dingue\, fait vivre tout le monde dans une caravane\, et la mère\, Annie teint les cheveux de son fils Émile en blond\, parce que\, paraît-il\, il est plus beau comme ça !!! Quand Pauline\, la fille du lycée dont Émile est amoureux\, l’invite à Venise pour les vacances\, l’adolescent est fou de joie. Seul problème\, et de taille\, les parents décident de l’accompagner avec leur caravane\, pour un voyage aussi rocambolesque qu’initiatique. \n  \nSaint PIerre le moutier\nLundi 30 septembre 20h
URL:https://livry.fr/event/cinema-itinerant-venise-nest-pas-en-italie/
LOCATION:St-Pierre-Le-moûtier\, 58240
END:VEVENT
END:VCALENDAR