BEGIN:VCALENDAR
VERSION:2.0
PRODID:-//Livry - Commune de Livry - ECPv6.15.20//NONSGML v1.0//EN
CALSCALE:GREGORIAN
METHOD:PUBLISH
X-WR-CALNAME:Livry - Commune de Livry
X-ORIGINAL-URL:https://livry.fr
X-WR-CALDESC:Évènements pour Livry - Commune de Livry
REFRESH-INTERVAL;VALUE=DURATION:PT1H
X-Robots-Tag:noindex
X-PUBLISHED-TTL:PT1H
BEGIN:VTIMEZONE
TZID:Europe/Paris
BEGIN:DAYLIGHT
TZOFFSETFROM:+0100
TZOFFSETTO:+0200
TZNAME:CEST
DTSTART:20180325T010000
END:DAYLIGHT
BEGIN:STANDARD
TZOFFSETFROM:+0200
TZOFFSETTO:+0100
TZNAME:CET
DTSTART:20181028T010000
END:STANDARD
BEGIN:DAYLIGHT
TZOFFSETFROM:+0100
TZOFFSETTO:+0200
TZNAME:CEST
DTSTART:20190331T010000
END:DAYLIGHT
BEGIN:STANDARD
TZOFFSETFROM:+0200
TZOFFSETTO:+0100
TZNAME:CET
DTSTART:20191027T010000
END:STANDARD
BEGIN:DAYLIGHT
TZOFFSETFROM:+0100
TZOFFSETTO:+0200
TZNAME:CEST
DTSTART:20200329T010000
END:DAYLIGHT
BEGIN:STANDARD
TZOFFSETFROM:+0200
TZOFFSETTO:+0100
TZNAME:CET
DTSTART:20201025T010000
END:STANDARD
END:VTIMEZONE
BEGIN:VEVENT
DTSTART;TZID=Europe/Paris:20190826T143000
DTEND;TZID=Europe/Paris:20190916T170000
DTSTAMP:20260423T141222
CREATED:20190522T112432Z
LAST-MODIFIED:20190522T112432Z
UID:2072-1566829800-1568653200@livry.fr
SUMMARY:Saison estivale Musée de la Vigne
DESCRIPTION:
URL:https://livry.fr/event/saison-estivale-musee-de-la-vigne-3/
LOCATION:Riousse – LIVRY\, Riousse\, LIVRY\, Bourgogne\, 58240\, France
ORGANIZER;CN="Mus%C3%A9e de la Vigne":MAILTO:museedelavigne58240@gmail.com
END:VEVENT
BEGIN:VEVENT
DTSTART;TZID=Europe/Paris:20190910T163000
DTEND;TZID=Europe/Paris:20190910T183000
DTSTAMP:20260423T141222
CREATED:20190905T072637Z
LAST-MODIFIED:20190905T072637Z
UID:2244-1568133000-1568140200@livry.fr
SUMMARY:Cinéma itinérant : Le Roi Lion
DESCRIPTION:  \nSYNOPSIS : Au fond de la savane africaine\, tous les animaux célèbrent la naissance de Simba\, leur futur roi. Les mois passent. Simba idolâtre son père\, le roi Mufasa\, qui prend à cœur de lui faire comprendre les enjeux de sa royale destinée. Mais tout le monde ne semble pas de cet avis. Scar\, le frère de Mufasa\, l’ancien héritier du trône\, a ses propres plans. La bataille pour la prise de contrôle de la Terre des Lions est ravagée par la trahison\, la tragédie et le drame\, ce qui finit par entraîner l’exil de Simba. Avec l’aide de deux nouveaux amis\, Timon et Pumbaa\, le jeune lion va devoir trouver comment grandir et reprendre ce qui lui revient de droit… \n  \nSaint Pierre Le Moûtier :\nMardi 10 septembre 16h30
URL:https://livry.fr/event/cinema-itinerant-le-roi-lion/
LOCATION:St-Pierre-Le-moûtier\, 58240
END:VEVENT
BEGIN:VEVENT
DTSTART;TZID=Europe/Paris:20190910T200000
DTEND;TZID=Europe/Paris:20190910T213000
DTSTAMP:20260423T141222
CREATED:20190905T073308Z
LAST-MODIFIED:20190905T073308Z
UID:2247-1568145600-1568151000@livry.fr
SUMMARY:Cinéma itinérant : C'est quoi cette mamie ?
DESCRIPTION:  \nSYNOPSIS : Après deux ans de joyeuse colocation\, la tribu des 7 demi-frères et sœurs doit quitter le grand appart’ avant la rentrée. Alors que chacun part en vacances pour l’été avec ses parents respectifs\, Gulliver\, le petit dernier\, est envoyé tout seul chez sa grand-mère au bord de la mer. Mais l’excentrique Mamie Aurore n’est pas une baby-sitter comme les autres et préfère faire la fête plutôt que de garder son petit-fils… Le reste de la troupe décide de venir à sa rescousse. C’est le début d’une nouvelle révolution. Elle voulait se la couler douce… Ils vont lui mener la vie dure ! \n  \nSaint Pierre Le Moûtier\nMardi 10 septembre 20h
URL:https://livry.fr/event/cinema-itinerant-cest-quoi-cette-mamie/
LOCATION:St-Pierre-Le-moûtier\, 58240
END:VEVENT
END:VCALENDAR