BEGIN:VCALENDAR
VERSION:2.0
PRODID:-//Livry - Commune de Livry - ECPv6.15.20//NONSGML v1.0//EN
CALSCALE:GREGORIAN
METHOD:PUBLISH
X-ORIGINAL-URL:https://livry.fr
X-WR-CALDESC:Évènements pour Livry - Commune de Livry
REFRESH-INTERVAL;VALUE=DURATION:PT1H
X-Robots-Tag:noindex
X-PUBLISHED-TTL:PT1H
BEGIN:VTIMEZONE
TZID:Europe/Paris
BEGIN:DAYLIGHT
TZOFFSETFROM:+0100
TZOFFSETTO:+0200
TZNAME:CEST
DTSTART:20180325T010000
END:DAYLIGHT
BEGIN:STANDARD
TZOFFSETFROM:+0200
TZOFFSETTO:+0100
TZNAME:CET
DTSTART:20181028T010000
END:STANDARD
BEGIN:DAYLIGHT
TZOFFSETFROM:+0100
TZOFFSETTO:+0200
TZNAME:CEST
DTSTART:20190331T010000
END:DAYLIGHT
BEGIN:STANDARD
TZOFFSETFROM:+0200
TZOFFSETTO:+0100
TZNAME:CET
DTSTART:20191027T010000
END:STANDARD
BEGIN:DAYLIGHT
TZOFFSETFROM:+0100
TZOFFSETTO:+0200
TZNAME:CEST
DTSTART:20200329T010000
END:DAYLIGHT
BEGIN:STANDARD
TZOFFSETFROM:+0200
TZOFFSETTO:+0100
TZNAME:CET
DTSTART:20201025T010000
END:STANDARD
END:VTIMEZONE
BEGIN:VEVENT
DTSTART;TZID=Europe/Paris:20190810T203000
DTEND;TZID=Europe/Paris:20190810T223000
DTSTAMP:20260423T155624
CREATED:20190715T112006Z
LAST-MODIFIED:20190715T112857Z
UID:2167-1565469000-1565476200@livry.fr
SUMMARY:Spectacle Laurent et Inès DUCROT
DESCRIPTION:  \n  \n  \n  \n“Nous allons donner un spectacle à Paraize\, le samedi 10 Août prochain\, 20h30\, sur la place du hameau. \nNous reprenons la même formule que l’année précédente: musique\, danse et chant\, en variant les styles. \nForts du succès de la soirée de 2018\, et sur la nouvelle place du hameau de Paraize\, nous ferons résonner nos sons et faire vivre ce lieu une nouvelle fois pour partager un nouveau moment intense en émotions.” \nLaurent DUCROT
URL:https://livry.fr/event/spectacle-laurent-et-ines-ducrot/
LOCATION:Paraize\, LIVRY\, 58240\, France
END:VEVENT
END:VCALENDAR