BEGIN:VCALENDAR
VERSION:2.0
PRODID:-//Livry - Commune de Livry - ECPv6.15.20//NONSGML v1.0//EN
CALSCALE:GREGORIAN
METHOD:PUBLISH
X-WR-CALNAME:Livry - Commune de Livry
X-ORIGINAL-URL:https://livry.fr
X-WR-CALDESC:Évènements pour Livry - Commune de Livry
REFRESH-INTERVAL;VALUE=DURATION:PT1H
X-Robots-Tag:noindex
X-PUBLISHED-TTL:PT1H
BEGIN:VTIMEZONE
TZID:Europe/Paris
BEGIN:DAYLIGHT
TZOFFSETFROM:+0100
TZOFFSETTO:+0200
TZNAME:CEST
DTSTART:20180325T010000
END:DAYLIGHT
BEGIN:STANDARD
TZOFFSETFROM:+0200
TZOFFSETTO:+0100
TZNAME:CET
DTSTART:20181028T010000
END:STANDARD
BEGIN:DAYLIGHT
TZOFFSETFROM:+0100
TZOFFSETTO:+0200
TZNAME:CEST
DTSTART:20190331T010000
END:DAYLIGHT
BEGIN:STANDARD
TZOFFSETFROM:+0200
TZOFFSETTO:+0100
TZNAME:CET
DTSTART:20191027T010000
END:STANDARD
BEGIN:DAYLIGHT
TZOFFSETFROM:+0100
TZOFFSETTO:+0200
TZNAME:CEST
DTSTART:20200329T010000
END:DAYLIGHT
BEGIN:STANDARD
TZOFFSETFROM:+0200
TZOFFSETTO:+0100
TZNAME:CET
DTSTART:20201025T010000
END:STANDARD
END:VTIMEZONE
BEGIN:VEVENT
DTSTART;TZID=Europe/Paris:20190513T143000
DTEND;TZID=Europe/Paris:20190729T170000
DTSTAMP:20260423T201031
CREATED:20190522T112155Z
LAST-MODIFIED:20190522T112155Z
UID:2069-1557757800-1564419600@livry.fr
SUMMARY:Saison estivale Musée de la Vigne
DESCRIPTION: 
URL:https://livry.fr/event/saison-estivale-musee-de-la-vigne-2/
LOCATION:Riousse – LIVRY\, Riousse\, LIVRY\, Bourgogne\, 58240\, France
ORGANIZER;CN="Mus%C3%A9e de la Vigne":MAILTO:museedelavigne58240@gmail.com
END:VEVENT
BEGIN:VEVENT
DTSTART;TZID=Europe/Paris:20190521T163000
DTEND;TZID=Europe/Paris:20190521T180000
DTSTAMP:20260423T201031
CREATED:20190520T080046Z
LAST-MODIFIED:20190520T080046Z
UID:2057-1558456200-1558461600@livry.fr
SUMMARY:Cinéma : Royal Corgi
DESCRIPTION:  \nSYNOPSIS : Les aventures de Rex\, le chien préféré de Sa Majesté\, qui perd son statut de favori et se retrouve perdu dans un chenil au milieu de chiens abandonnés. Sa quête pour retourner à Buckingham et retrouver les faveurs de la Reine l’amènera à affronter de nombreux dangers mais aussi à rencontrer l’amour. \n  \nSaint Pierre le Moutier : \nMardi 21 mai à 16h30 \nTARIFS: RÉDUIT – 3 EUROS / PLEIN –  5 EUROS
URL:https://livry.fr/event/cinema-royal-corgi/
LOCATION:St-Pierre-Le-moûtier\, 58240
END:VEVENT
BEGIN:VEVENT
DTSTART;TZID=Europe/Paris:20190521T200000
DTEND;TZID=Europe/Paris:20190521T220000
DTSTAMP:20260423T201031
CREATED:20190520T074409Z
LAST-MODIFIED:20190520T074409Z
UID:2051-1558468800-1558476000@livry.fr
SUMMARY:Cinéma : Tanguy\, le retour
DESCRIPTION:  \nSYNOPSIS : 16 ans plus tard\, Tanguy\, qui a maintenant 44 ans\, revient chez ses parents avec sa fille Zhu sous le bras car Meï Lin l’a quitté. Catastrophés de voir leur « tout-petit » dans cet état\, Paul et Édith font tout pour lui redonner goût à la vie\, sans réaliser que ce faisant\, ils tressent la corde pour se pendre. Car Tanguy recommence à se sentir bien chez ses parents… \n  \nSaint Pierre le Moutier : \nMardi 21 mai à 20h \nTARIFS: RÉDUIT – 3 EUROS / PLEIN –  5 EUROS
URL:https://livry.fr/event/cinema-tanguy-le-retour/
LOCATION:St-Pierre-Le-moûtier\, 58240
END:VEVENT
END:VCALENDAR