BEGIN:VCALENDAR
VERSION:2.0
PRODID:-//Livry - Commune de Livry - ECPv6.15.20//NONSGML v1.0//EN
CALSCALE:GREGORIAN
METHOD:PUBLISH
X-ORIGINAL-URL:https://livry.fr
X-WR-CALDESC:Évènements pour Livry - Commune de Livry
REFRESH-INTERVAL;VALUE=DURATION:PT1H
X-Robots-Tag:noindex
X-PUBLISHED-TTL:PT1H
BEGIN:VTIMEZONE
TZID:Europe/Paris
BEGIN:DAYLIGHT
TZOFFSETFROM:+0100
TZOFFSETTO:+0200
TZNAME:CEST
DTSTART:20180325T010000
END:DAYLIGHT
BEGIN:STANDARD
TZOFFSETFROM:+0200
TZOFFSETTO:+0100
TZNAME:CET
DTSTART:20181028T010000
END:STANDARD
BEGIN:DAYLIGHT
TZOFFSETFROM:+0100
TZOFFSETTO:+0200
TZNAME:CEST
DTSTART:20190331T010000
END:DAYLIGHT
BEGIN:STANDARD
TZOFFSETFROM:+0200
TZOFFSETTO:+0100
TZNAME:CET
DTSTART:20191027T010000
END:STANDARD
BEGIN:DAYLIGHT
TZOFFSETFROM:+0100
TZOFFSETTO:+0200
TZNAME:CEST
DTSTART:20200329T010000
END:DAYLIGHT
BEGIN:STANDARD
TZOFFSETFROM:+0200
TZOFFSETTO:+0100
TZNAME:CET
DTSTART:20201025T010000
END:STANDARD
END:VTIMEZONE
BEGIN:VEVENT
DTSTART;TZID=Europe/Paris:20190225T163000
DTEND;TZID=Europe/Paris:20190225T181500
DTSTAMP:20260423T230252
CREATED:20190116T121658Z
LAST-MODIFIED:20190116T121658Z
UID:1866-1551112200-1551118500@livry.fr
SUMMARY:Cinéma itinérant : L'incroyable histoire du facteur Cheval
DESCRIPTION:  \nSYNOPSIS\nFin XIXème\, Joseph Ferdinand Cheval\, est un simple facteur qui parcourt chaque jour la Drôme\, de village en village. Solitaire\, il est bouleversé quand il rencontre la femme de sa vie\, Philomène. De leur union naît Alice. Pour cette enfant qu’il aime plus que tout\, Cheval se jette alors dans un pari fou : lui construire de ses propres mains\, un incroyable palais. Jamais épargné par les épreuves de la vie\, cet homme ordinaire n’abandonnera pas et consacrera 33 ans à bâtir une œuvre extraordinaire : “Le Palais idéal”.
URL:https://livry.fr/event/cinema-itinerant-lincroyable-histoire-du-facteur-cheval/
LOCATION:St-Pierre-Le-moûtier\, 58240
END:VEVENT
BEGIN:VEVENT
DTSTART;TZID=Europe/Paris:20190225T200000
DTEND;TZID=Europe/Paris:20190225T214000
DTSTAMP:20260423T230252
CREATED:20190116T122116Z
LAST-MODIFIED:20190116T122436Z
UID:1869-1551124800-1551130800@livry.fr
SUMMARY:Cinéma itinérant : Le gendre de ma vie
DESCRIPTION:  \nSYNOPSIS\nStéphane et Suzanne sont parents de trois jeunes femmes\, le tableau peut sembler idéal mais Stéphane n’a jamais eu de fils et a toujours rêvé d’en avoir. Pour combler cette frustration\, il s’accapare ses gendres et en tombe plus vite amoureux que ses filles. Quand Alexia sa fille cadette\, décide de quitter Thomas\, magnifique rugbyman et nouvelle idole de son père\, pour un jeune médecin qu’il ne supporte pas\, Stéphane va se débattre. \n  \nhttp://www.sceniquanon.com/films-a-laffiche/le-gendre-de-ma-vie/
URL:https://livry.fr/event/cinema-itinerant-le-gendre-de-ma-vie/
LOCATION:St-Pierre-Le-moûtier\, 58240
END:VEVENT
END:VCALENDAR