BEGIN:VCALENDAR
VERSION:2.0
PRODID:-//Livry - Commune de Livry - ECPv6.15.20//NONSGML v1.0//EN
CALSCALE:GREGORIAN
METHOD:PUBLISH
X-WR-CALNAME:Livry - Commune de Livry
X-ORIGINAL-URL:https://livry.fr
X-WR-CALDESC:Évènements pour Livry - Commune de Livry
REFRESH-INTERVAL;VALUE=DURATION:PT1H
X-Robots-Tag:noindex
X-PUBLISHED-TTL:PT1H
BEGIN:VTIMEZONE
TZID:Europe/Paris
BEGIN:DAYLIGHT
TZOFFSETFROM:+0100
TZOFFSETTO:+0200
TZNAME:CEST
DTSTART:20170326T010000
END:DAYLIGHT
BEGIN:STANDARD
TZOFFSETFROM:+0200
TZOFFSETTO:+0100
TZNAME:CET
DTSTART:20171029T010000
END:STANDARD
BEGIN:DAYLIGHT
TZOFFSETFROM:+0100
TZOFFSETTO:+0200
TZNAME:CEST
DTSTART:20180325T010000
END:DAYLIGHT
BEGIN:STANDARD
TZOFFSETFROM:+0200
TZOFFSETTO:+0100
TZNAME:CET
DTSTART:20181028T010000
END:STANDARD
BEGIN:DAYLIGHT
TZOFFSETFROM:+0100
TZOFFSETTO:+0200
TZNAME:CEST
DTSTART:20190331T010000
END:DAYLIGHT
BEGIN:STANDARD
TZOFFSETFROM:+0200
TZOFFSETTO:+0100
TZNAME:CET
DTSTART:20191027T010000
END:STANDARD
END:VTIMEZONE
BEGIN:VEVENT
DTSTART;TZID=Europe/Paris:20180526T140000
DTEND;TZID=Europe/Paris:20180526T140000
DTSTAMP:20260424T121358
CREATED:20180524T093237Z
LAST-MODIFIED:20180524T093237Z
UID:980-1527343200-1527343200@livry.fr
SUMMARY:FETE DE LA NATURE
DESCRIPTION:L’ADATER vous invite à participer à son “Enquête au jardin” dans le cadre de la Fête de la Nature consacrée cette année à l’invisible. \nLe jardin-refuge de l’ADATER regorge d’indices : saurez-vous les trouver ? Les identifier ? Ils vous permettront de découvrir l’invisible ! Grâce à un jeu de piste les enfants pourront partir à la découverte des habitants qui s’y sont cachés. Les plus grands pourront assister à une conférence\, participer à des ateliers\, découvrir les bords de l’Allier\, voir une exposition… Il y en aura pour tous les goûts ! \nAu programme :\nExposition “Les insectes” \nJeu de piste pour les enfants\nAtelier “Les graines invisibles”\nStand “Traces et indices de présence”\nCoin lecture\nGeocaching\n\n15h00 – 17h00 : Sortie en bord d’Allier\n15h30 – 16h30: Conférence “Le microbe et le ruminant” \nÉquipement à prévoir : vêtements et chaussures adaptées à une activité de pleine nature. \n \n\n\nNiveau : accessible à tous. \nNous rappelons que les enfants restent sous la responsabilité de leurs parents et que le jardin est un milieu sensible qu’il est nécessaire de respecter.\n\n\n\nContact : 04 70 66 48 25 / 07 83 05 96 13 \n-- \nPascale MOULIN\nCoordinatrice\nADATER\nLe bourg \n03320 CHATEAU SUR ALLIER\n04 70 66 48 25
URL:https://livry.fr/event/fete-de-la-nature/
LOCATION:Le Veurdre
ATTACH;FMTTYPE=image/jpeg:https://livry.fr/wp-content/uploads/2018/05/AFFICHE.jpg
END:VEVENT
END:VCALENDAR